Workbook
Name test: Formulaire_annonce_bois!$C$37:$C$50,Formulaire_annonce_bois!$G$37:$G$50,Formulaire_annonce_bois!$I$37:$I$50

Sheet Formulaire_annonce_bois
P3: Contact : Stéphane Brawand | Chargé d'affaires
B4: ForêtNeuchâtel | Longues Raies 13 2013 Colombier | 032 730 39 42 | P4: stephane.brawand@foretneuchatel.ch 032 730 39 42
D5: Vente de bois précieux 2025
D6: Formulaire d'annonce des bois
B8: 1. Règlement, déroulement et délais
B10: Tout vendeur s'engage à respecter le règlement et le déroulement de la vente, dont les documents sont disponibles sur www.foretneuchatel.ch
B12: Rappel important et notice d'utilisation de ce formulaire d'annonce :
B13: 1. Selectionnez l'essence dans le menu déroulant de la colone "Essence". Le fichier Excel indique ensuite quelle méthode de cubage doit être appliquée pour cette essence et le pourcentage de déduction selon l'usage suisse du commerce des bois ronds.
B14: 2. Qualité : Les vieux bois, bois secs ou issus d’exploitation forcées seront obligatoirement mentionnés lors de l’annonce, dans "Remarques"
B15: 3. Pour les "autres feuillus" et "autres résineux", précisez l'essence dans les remarques.
B16: 4. Entrez les dimensions de chaque bille dans les colonnes blanches et indiquez si la bille est cerfifiée FSC/PEFC
B17: 5. Si vous souhaitez déduire une partie du volume de la bille pour exclure un défaut, vous êtes invités à le faire dans la colonne "Déduction volontaire" ou indiquer la longeur déduite volontairement dans les remarques
B18: 6. Indiquez les caractéristiques particulières dans les remarques (p. ex. bois ondé, bois de résonance, "bois de lune", etc.)
B20: 2. Contacts et données du vendeur / propriétaire
B22: Données du Vendeur (Propriétaire) | J22: Données de l'annonceur
B23: Nom | J23: Nom
B24: Adresse | J24: Adresse
B25: Compl. adresse | J25: NPA / Lieu
B26: Code postal | J26: N° téléphone
B27: Lieu | J27: Email
B28: N° téléphone
B29: Email | J29: Volume total | L29: [m3] | N29: =SUBTOTAL(9,L39:L113) -> 0
B30: IBAN
B35: 3. Liste des bois
B37: N° plaquette fournisseur | C37: Essence (menu déroulant, les résineux sont à la fin de la liste) | D37: Cubage à appliquer par le vendeur | E37: Diamètre | F37: Longueur sans la sur-mesure | G37: Volume | H37: Déduction écorce | I37: Volume sous-écorce | J37: Déduc. volontaire du vendeur (% du volume sous écorce) | K37: Volume net (m3) colonne de calcul pour permettre une belle présentation de la colonne suivante | L37: Volume net | M37: FSC PEFC | N37: N° RDUE | O37: Remarques internes | P37: Type de vente (menu déroulant) | Q37: Type d'enchère (menu déroulant) | R37: Remarques
E38: [cm] | F38: [m] | G38: [m3] | H38: [%] | I38: [m3] | J38: [%] | L38: [m3] | M38: oui/non
D39: =IF(VLOOKUP(C39,Sources_menus_deroulants!$B$1:$C$100,2,FALSE)=1,Sources_menus_deroulants!$K$2,Sources_menus_deroulants!$K$3) -> #N/A | G39: =PI()*(((E39/100)/2)^2)*F39 -> 0 | H39: =IF(D39=Sources_menus_deroulants!$K$2,INDEX('Déduction écorce'!$A$1:$XN$1000,(VLOOKUP(E39,'Déduction écorce'!$A$5:$B$184,2,FALSE)),(HLOOKUP(C39,'Déduction écorce'!$D$1:$AI$2,2,FALSE))),Sources_menus_deroulants!$K$4) -> #N/A | I39: =IF(D39="sur écorce",G39*(1-(H39/100)),G39) -> #N/A | K39: =I39*(1-(J39/100)) -> #N/A | L39: =SUMIF(K39,">0",K39) -> 0
D40: =IF(VLOOKUP(C40,Sources_menus_deroulants!$B$1:$C$100,2,FALSE)=1,Sources_menus_deroulants!$K$2,Sources_menus_deroulants!$K$3) -> #N/A | G40: =PI()*(((E40/100)/2)^2)*F40 -> 0 | H40: =IF(D40=Sources_menus_deroulants!$K$2,INDEX('Déduction écorce'!$A$1:$XN$1000,(VLOOKUP(E40,'Déduction écorce'!$A$5:$B$184,2,FALSE)),(HLOOKUP(C40,'Déduction écorce'!$D$1:$AI$2,2,FALSE))),Sources_menus_deroulants!$K$4) -> #N/A | I40: =IF(D40="sur écorce",G40*(1-(H40/100)),G40) -> #N/A | K40: =I40*(1-(J40/100)) -> #N/A | L40: =SUMIF(K40,">0",K40) -> 0
D41: =IF(VLOOKUP(C41,Sources_menus_deroulants!$B$1:$C$100,2,FALSE)=1,Sources_menus_deroulants!$K$2,Sources_menus_deroulants!$K$3) -> #N/A | G41: =PI()*(((E41/100)/2)^2)*F41 -> 0 | H41: =IF(D41=Sources_menus_deroulants!$K$2,INDEX('Déduction écorce'!$A$1:$XN$1000,(VLOOKUP(E41,'Déduction écorce'!$A$5:$B$184,2,FALSE)),(HLOOKUP(C41,'Déduction écorce'!$D$1:$AI$2,2,FALSE))),Sources_menus_deroulants!$K$4) -> #N/A | I41: =IF(D41="sur écorce",G41*(1-(H41/100)),G41) -> #N/A | K41: =I41*(1-(J41/100)) -> #N/A | L41: =SUMIF(K41,">0",K41) -> 0
D42: =IF(VLOOKUP(C42,Sources_menus_deroulants!$B$1:$C$100,2,FALSE)=1,Sources_menus_deroulants!$K$2,Sources_menus_deroulants!$K$3) -> #N/A | G42: =PI()*(((E42/100)/2)^2)*F42 -> 0 | H42: =IF(D42=Sources_menus_deroulants!$K$2,INDEX('Déduction écorce'!$A$1:$XN$1000,(VLOOKUP(E42,'Déduction écorce'!$A$5:$B$184,2,FALSE)),(HLOOKUP(C42,'Déduction écorce'!$D$1:$AI$2,2,FALSE))),Sources_menus_deroulants!$K$4) -> #N/A | I42: =IF(D42="sur écorce",G42*(1-(H42/100)),G42) -> #N/A | K42: =I42*(1-(J42/100)) -> #N/A | L42: =SUMIF(K42,">0",K42) -> 0
D43: =IF(VLOOKUP(C43,Sources_menus_deroulants!$B$1:$C$100,2,FALSE)=1,Sources_menus_deroulants!$K$2,Sources_menus_deroulants!$K$3) -> #N/A | G43: =PI()*(((E43/100)/2)^2)*F43 -> 0 | H43: =IF(D43=Sources_menus_deroulants!$K$2,INDEX('Déduction écorce'!$A$1:$XN$1000,(VLOOKUP(E43,'Déduction écorce'!$A$5:$B$184,2,FALSE)),(HLOOKUP(C43,'Déduction écorce'!$D$1:$AI$2,2,FALSE))),Sources_menus_deroulants!$K$4) -> #N/A | I43: =IF(D43="sur écorce",G43*(1-(H43/100)),G43) -> #N/A | K43: =I43*(1-(J43/100)) -> #N/A | L43: =SUMIF(K43,">0",K43) -> 0
D44: =IF(VLOOKUP(C44,Sources_menus_deroulants!$B$1:$C$100,2,FALSE)=1,Sources_menus_deroulants!$K$2,Sources_menus_deroulants!$K$3) -> #N/A | G44: =PI()*(((E44/100)/2)^2)*F44 -> 0 | H44: =IF(D44=Sources_menus_deroulants!$K$2,INDEX('Déduction écorce'!$A$1:$XN$1000,(VLOOKUP(E44,'Déduction écorce'!$A$5:$B$184,2,FALSE)),(HLOOKUP(C44,'Déduction écorce'!$D$1:$AI$2,2,FALSE))),Sources_menus_deroulants!$K$4) -> #N/A | I44: =IF(D44="sur écorce",G44*(1-(H44/100)),G44) -> #N/A | K44: =I44*(1-(J44/100)) -> #N/A | L44: =SUMIF(K44,">0",K44) -> 0
D45: =IF(VLOOKUP(C45,Sources_menus_deroulants!$B$1:$C$100,2,FALSE)=1,Sources_menus_deroulants!$K$2,Sources_menus_deroulants!$K$3) -> #N/A | G45: =PI()*(((E45/100)/2)^2)*F45 -> 0 | H45: =IF(D45=Sources_menus_deroulants!$K$2,INDEX('Déduction écorce'!$A$1:$XN$1000,(VLOOKUP(E45,'Déduction écorce'!$A$5:$B$184,2,FALSE)),(HLOOKUP(C45,'Déduction écorce'!$D$1:$AI$2,2,FALSE))),Sources_menus_deroulants!$K$4) -> #N/A | I45: =IF(D45="sur écorce",G45*(1-(H45/100)),G45) -> #N/A | K45: =I45*(1-(J45/100)) -> #N/A | L45: =SUMIF(K45,">0",K45) -> 0
D46: =IF(VLOOKUP(C46,Sources_menus_deroulants!$B$1:$C$100,2,FALSE)=1,Sources_menus_deroulants!$K$2,Sources_menus_deroulants!$K$3) -> #N/A | G46: =PI()*(((E46/100)/2)^2)*F46 -> 0 | H46: =IF(D46=Sources_menus_deroulants!$K$2,INDEX('Déduction écorce'!$A$1:$XN$1000,(VLOOKUP(E46,'Déduction écorce'!$A$5:$B$184,2,FALSE)),(HLOOKUP(C46,'Déduction écorce'!$D$1:$AI$2,2,FALSE))),Sources_menus_deroulants!$K$4) -> #N/A | I46: =IF(D46="sur écorce",G46*(1-(H46/100)),G46) -> #N/A | K46: =I46*(1-(J46/100)) -> #N/A | L46: =SUMIF(K46,">0",K46) -> 0
D47: =IF(VLOOKUP(C47,Sources_menus_deroulants!$B$1:$C$100,2,FALSE)=1,Sources_menus_deroulants!$K$2,Sources_menus_deroulants!$K$3) -> #N/A | G47: =PI()*(((E47/100)/2)^2)*F47 -> 0 | H47: =IF(D47=Sources_menus_deroulants!$K$2,INDEX('Déduction écorce'!$A$1:$XN$1000,(VLOOKUP(E47,'Déduction écorce'!$A$5:$B$184,2,FALSE)),(HLOOKUP(C47,'Déduction écorce'!$D$1:$AI$2,2,FALSE))),Sources_menus_deroulants!$K$4) -> #N/A | I47: =IF(D47="sur écorce",G47*(1-(H47/100)),G47) -> #N/A | K47: =I47*(1-(J47/100)) -> #N/A | L47: =SUMIF(K47,">0",K47) -> 0
D48: =IF(VLOOKUP(C48,Sources_menus_deroulants!$B$1:$C$100,2,FALSE)=1,Sources_menus_deroulants!$K$2,Sources_menus_deroulants!$K$3) -> #N/A | G48: =PI()*(((E48/100)/2)^2)*F48 -> 0 | H48: =IF(D48=Sources_menus_deroulants!$K$2,INDEX('Déduction écorce'!$A$1:$XN$1000,(VLOOKUP(E48,'Déduction écorce'!$A$5:$B$184,2,FALSE)),(HLOOKUP(C48,'Déduction écorce'!$D$1:$AI$2,2,FALSE))),Sources_menus_deroulants!$K$4) -> #N/A | I48: =IF(D48="sur écorce",G48*(1-(H48/100)),G48) -> #N/A | K48: =I48*(1-(J48/100)) -> #N/A | L48: =SUMIF(K48,">0",K48) -> 0
D49: =IF(VLOOKUP(C49,Sources_menus_deroulants!$B$1:$C$100,2,FALSE)=1,Sources_menus_deroulants!$K$2,Sources_menus_deroulants!$K$3) -> #N/A | G49: =PI()*(((E49/100)/2)^2)*F49 -> 0 | H49: =IF(D49=Sources_menus_deroulants!$K$2,INDEX('Déduction écorce'!$A$1:$XN$1000,(VLOOKUP(E49,'Déduction écorce'!$A$5:$B$184,2,FALSE)),(HLOOKUP(C49,'Déduction écorce'!$D$1:$AI$2,2,FALSE))),Sources_menus_deroulants!$K$4) -> #N/A | I49: =IF(D49="sur écorce",G49*(1-(H49/100)),G49) -> #N/A | K49: =I49*(1-(J49/100)) -> #N/A | L49: =SUMIF(K49,">0",K49) -> 0
D50: =IF(VLOOKUP(C50,Sources_menus_deroulants!$B$1:$C$100,2,FALSE)=1,Sources_menus_deroulants!$K$2,Sources_menus_deroulants!$K$3) -> #N/A | G50: =PI()*(((E50/100)/2)^2)*F50 -> 0 | H50: =IF(D50=Sources_menus_deroulants!$K$2,INDEX('Déduction écorce'!$A$1:$XN$1000,(VLOOKUP(E50,'Déduction écorce'!$A$5:$B$184,2,FALSE)),(HLOOKUP(C50,'Déduction écorce'!$D$1:$AI$2,2,FALSE))),Sources_menus_deroulants!$K$4) -> #N/A | I50: =IF(D50="sur écorce",G50*(1-(H50/100)),G50) -> #N/A | K50: =I50*(1-(J50/100)) -> #N/A | L50: =SUMIF(K50,">0",K50) -> 0
... D113: =IF(VLOOKUP(C113,Sources_menus_deroulants!$B$1:$C$100,2,FALSE)=1,Sources_menus_deroulants!$K$2,Sources_menus_deroulants!$K$3) -> #N/A | G113: =PI()*(((E113/100)/2)^2)*F113 -> 0 | H113: =IF(D113=Sources_menus_deroulants!$K$2,INDEX('Déduction écorce'!$A$1:$XN$1000,(VLOOKUP(E113,'Déduction écorce'!$A$5:$B$184,2,FALSE)),(HLOOKUP(C113,'Déduction écorce'!$D$1:$AI$2,2,FALSE))),Sources_menus_deroulants!$K$4) -> #N/A | I113: =IF(D113="sur écorce",G113*(1-(H113/100)),G113) -> #N/A | K113: =I113*(1-(J113/100)) -> #N/A | L113: =SUMIF(K113,">0",K113) -> 0

Sheet Déduction écorce
A1: Selon usages suisses | D1: Hêtre | E1: Charme | F1: Chêne pédonculé | G1: Chêne rouvre | H1: Chêne rouge | I1: Chêne autre (à spécifier) | J1: Robinier | K1: Peuplier tremble | L1: Erable sycomore | M1: Erable champêtre | N1: Erable plane | O1: Châtaignier | P1: Marronnier | Q1: Aulne noir | R1: Merisier | S1: Platane | T1: Saule | U1: Frêne | V1: Pommier sauvage | W1: Poirier sauvage | X1: Bouleau | Y1: Tilleul | Z1: Noyer | AA1: Orme | AB1: Epicéa | AC1: Sapin | AD1: Mélèze | AE1: Pin sylvestre | AF1: Pin noir | AG1: Arole | AH1: Pin Weymouth | AI1: Douglas
D2: =COLUMN(D1) -> 4 | E2: =COLUMN(E1) -> 5 | F2: =COLUMN(F1) -> 6 | G2: =COLUMN(G1) -> 7 | H2: =COLUMN(H1) -> 8 | I2: =COLUMN(I1) -> 9 | J2: =COLUMN(J1) -> 10 | K2: =COLUMN(K1) -> 11 | ... AI2: =COLUMN(AI1) -> 35
A3: Diamètre selon Usage suisse | B3: N° ligne | C3: Classe de diamètre dérivée cm | D3: Hêtre, Charme | F3: Chêne, Chêne pédonculé, Chêne rouvre, Robinier, Tremble | L3: Erable sycomore, champêtre, plane, Châtaignier, Marronnier, Aulne, Cerisier, Platane, Saule | U3: Frêne, Pommier, Poirier, Bouleau, Tilleul, Noyer, Orme | AB3: Epicéa | AC3: Sapin | AD3: Mélèze | AE3: Pin, Pin noir, Arole | AH3: Douglas, Pin Weymouth, autre résineux
A4: cm | C4: cm | D4: % | F4: % | L4: % | U4: % | AB4: % | AC4: % | AD4: % | AE4: % | AH4: %
A5: 1 | B5: =ROW(A5) -> 5 | C5: 0 à 12 | D5: 10.6 | E5: 10.6 | F5: 28.7 | G5: 28.7 | H5: 28.7 | I5: 28.7 | J5: 28.7 | K5: 28.7 | L5: 12.1 | M5: 12.1 | N5: 12.1 | O5: 12.1 | P5: 12.1 | Q5: 12.1 | R5: 12.1 | S5: 12.1 | T5: 12.1 | U5: 9.8 | V5: 9.8 | W5: 9.8 | X5: 9.8 | Y5: 9.8 | Z5: 9.8 | AA5: 9.8 | AB5: 13 | AC5: 14.8 | AD5: 25.9 | AE5: 12.8 | AF5: 12.8 | AG5: 12.8 | AH5: 12.9 | AI5: 12.9
A6: 2 | B6: =ROW(A6) -> 6 | D6: 10.6 | E6: 10.6 | F6: 28.7 | G6: 28.7 | H6: 28.7 | I6: 28.7 | J6: 28.7 | K6: 28.7 | L6: 12.1 | M6: 12.1 | N6: 12.1 | O6: 12.1 | P6: 12.1 | Q6: 12.1 | R6: 12.1 | S6: 12.1 | T6: 12.1 | U6: 9.8 | V6: 9.8 | W6: 9.8 | X6: 9.8 | Y6: 9.8 | Z6: 9.8 | AA6: 9.8 | AB6: 13 | AC6: 14.8 | AD6: 25.9 | AE6: 12.8 | AF6: 12.8 | AG6: 12.8 | AH6: 12.9 | AI6: 12.9
A7: 3 | B7: =ROW(A7) -> 7 | D7: 10.6 | E7: 10.6 | F7: 28.7 | G7: 28.7 | H7: 28.7 | I7: 28.7 | J7: 28.7 | K7: 28.7 | L7: 12.1 | M7: 12.1 | N7: 12.1 | O7: 12.1 | P7: 12.1 | Q7: 12.1 | R7: 12.1 | S7: 12.1 | T7: 12.1 | U7: 9.8 | V7: 9.8 | W7: 9.8 | X7: 9.8 | Y7: 9.8 | Z7: 9.8 | AA7: 9.8 | AB7: 13 | AC7: 14.8 | AD7: 25.9 | AE7: 12.8 | AF7: 12.8 | AG7: 12.8 | AH7: 12.9 | AI7: 12.9
A8: 4 | B8: =ROW(A8) -> 8 | D8: 10.6 | E8: 10.6 | F8: 28.7 | G8: 28.7 | H8: 28.7 | I8: 28.7 | J8: 28.7 | K8: 28.7 | L8: 12.1 | M8: 12.1 | N8: 12.1 | O8: 12.1 | P8: 12.1 | Q8: 12.1 | R8: 12.1 | S8: 12.1 | T8: 12.1 | U8: 9.8 | V8: 9.8 | W8: 9.8 | X8: 9.8 | Y8: 9.8 | Z8: 9.8 | AA8: 9.8 | AB8: 13 | AC8: 14.8 | AD8: 25.9 | AE8: 12.8 | AF8: 12.8 | AG8: 12.8 | AH8: 12.9 | AI8: 12.9
A9: 5 | B9: =ROW(A9) -> 9 | D9: 10.6 | E9: 10.6 | F9: 28.7 | G9: 28.7 | H9: 28.7 | I9: 28.7 | J9: 28.7 | K9: 28.7 | L9: 12.1 | M9: 12.1 | N9: 12.1 | O9: 12.1 | P9: 12.1 | Q9: 12.1 | R9: 12.1 | S9: 12.1 | T9: 12.1 | U9: 9.8 | V9: 9.8 | W9: 9.8 | X9: 9.8 | Y9: 9.8 | Z9: 9.8 | AA9: 9.8 | AB9: 13 | AC9: 14.8 | AD9: 25.9 | AE9: 12.8 | AF9: 12.8 | AG9: 12.8 | AH9: 12.9 | AI9: 12.9
A10: 6 | B10: =ROW(A10) -> 10 | D10: 10.6 | E10: 10.6 | F10: 28.7 | G10: 28.7 | H10: 28.7 | I10: 28.7 | J10: 28.7 | K10: 28.7 | L10: 12.1 | M10: 12.1 | N10: 12.1 | O10: 12.1 | P10: 12.1 | Q10: 12.1 | R10: 12.1 | S10: 12.1 | T10: 12.1 | U10: 9.8 | V10: 9.8 | W10: 9.8 | X10: 9.8 | Y10: 9.8 | Z10: 9.8 | AA10: 9.8 | AB10: 13 | AC10: 14.8 | AD10: 25.9 | AE10: 12.8 | AF10: 12.8 | AG10: 12.8 | AH10: 12.9 | AI10: 12.9
A11: 7 | B11: =ROW(A11) -> 11 | D11: 10.6 | E11: 10.6 | F11: 28.7 | G11: 28.7 | H11: 28.7 | I11: 28.7 | J11: 28.7 | K11: 28.7 | L11: 12.1 | M11: 12.1 | N11: 12.1 | O11: 12.1 | P11: 12.1 | Q11: 12.1 | R11: 12.1 | S11: 12.1 | T11: 12.1 | U11: 9.8 | V11: 9.8 | W11: 9.8 | X11: 9.8 | Y11: 9.8 | Z11: 9.8 | AA11: 9.8 | AB11: 13 | AC11: 14.8 | AD11: 25.9 | AE11: 12.8 | AF11: 12.8 | AG11: 12.8 | AH11: 12.9 | AI11: 12.9
A12: 8 | B12: =ROW(A12) -> 12 | D12: 10.6 | E12: 10.6 | F12: 28.7 | G12: 28.7 | H12: 28.7 | I12: 28.7 | J12: 28.7 | K12: 28.7 | L12: 12.1 | M12: 12.1 | N12: 12.1 | O12: 12.1 | P12: 12.1 | Q12: 12.1 | R12: 12.1 | S12: 12.1 | T12: 12.1 | U12: 9.8 | V12: 9.8 | W12: 9.8 | X12: 9.8 | Y12: 9.8 | Z12: 9.8 | AA12: 9.8 | AB12: 13 | AC12: 14.8 | AD12: 25.9 | AE12: 12.8 | AF12: 12.8 | AG12: 12.8 | AH12: 12.9 | AI12: 12.9
A13: 9 | B13: =ROW(A13) -> 13 | D13: 10.6 | E13: 10.6 | F13: 28.7 | G13: 28.7 | H13: 28.7 | I13: 28.7 | J13: 28.7 | K13: 28.7 | L13: 12.1 | M13: 12.1 | N13: 12.1 | O13: 12.1 | P13: 12.1 | Q13: 12.1 | R13: 12.1 | S13: 12.1 | T13: 12.1 | U13: 9.8 | V13: 9.8 | W13: 9.8 | X13: 9.8 | Y13: 9.8 | Z13: 9.8 | AA13: 9.8 | AB13: 13 | AC13: 14.8 | AD13: 25.9 | AE13: 12.8 | AF13: 12.8 | AG13: 12.8 | AH13: 12.9 | AI13: 12.9
A14: 10 | B14: =ROW(A14) -> 14 | D14: 10.6 | E14: 10.6 | F14: 28.7 | G14: 28.7 | H14: 28.7 | I14: 28.7 | J14: 28.7 | K14: 28.7 | L14: 12.1 | M14: 12.1 | N14: 12.1 | O14: 12.1 | P14: 12.1 | Q14: 12.1 | R14: 12.1 | S14: 12.1 | T14: 12.1 | U14: 9.8 | V14: 9.8 | W14: 9.8 | X14: 9.8 | Y14: 9.8 | Z14: 9.8 | AA14: 9.8 | AB14: 13 | AC14: 14.8 | AD14: 25.9 | AE14: 12.8 | AF14: 12.8 | AG14: 12.8 | AH14: 12.9 | AI14: 12.9
A15: 11 | B15: =ROW(A15) -> 15 | D15: 10.6 | E15: 10.6 | F15: 28.7 | G15: 28.7 | H15: 28.7 | I15: 28.7 | J15: 28.7 | K15: 28.7 | L15: 12.1 | M15: 12.1 | N15: 12.1 | O15: 12.1 | P15: 12.1 | Q15: 12.1 | R15: 12.1 | S15: 12.1 | T15: 12.1 | U15: 9.8 | V15: 9.8 | W15: 9.8 | X15: 9.8 | Y15: 9.8 | Z15: 9.8 | AA15: 9.8 | AB15: 13 | AC15: 14.8 | AD15: 25.9 | AE15: 12.8 | AF15: 12.8 | AG15: 12.8 | AH15: 12.9 | AI15: 12.9
A16: 12 | B16: =ROW(A16) -> 16 | D16: 10.6 | E16: 10.6 | F16: 28.7 | G16: 28.7 | H16: 28.7 | I16: 28.7 | J16: 28.7 | K16: 28.7 | L16: 12.1 | M16: 12.1 | N16: 12.1 | O16: 12.1 | P16: 12.1 | Q16: 12.1 | R16: 12.1 | S16: 12.1 | T16: 12.1 | U16: 9.8 | V16: 9.8 | W16: 9.8 | X16: 9.8 | Y16: 9.8 | Z16: 9.8 | AA16: 9.8 | AB16: 13 | AC16: 14.8 | AD16: 25.9 | AE16: 12.8 | AF16: 12.8 | AG16: 12.8 | AH16: 12.9 | AI16: 12.9
A17: 13 | B17: =ROW(A17) -> 17 | C17: 13 à 17 | D17: 9 | E17: 9 | F17: 23 | G17: 23 | H17: 23 | I17: 23 | J17: 23 | K17: 23 | L17: 12 | M17: 12 | N17: 12 | O17: 12 | P17: 12 | Q17: 12 | R17: 12 | S17: 12 | T17: 12 | U17: 13.9 | V17: 13.9 | W17: 13.9 | X17: 13.9 | Y17: 13.9 | Z17: 13.9 | AA17: 13.9 | AB17: 12.2 | AC17: 13.7 | AD17: 23.8 | AE17: 11.8 | AF17: 11.8 | AG17: 11.8 | AH17: 13.8 | AI17: 13.8
A18: 14 | B18: =ROW(A18) -> 18 | D18: 9 | E18: 9 | F18: 23 | G18: 23 | H18: 23 | I18: 23 | J18: 23 | K18: 23 | L18: 12 | M18: 12 | N18: 12 | O18: 12 | P18: 12 | Q18: 12 | R18: 12 | S18: 12 | T18: 12 | U18: 13.9 | V18: 13.9 | W18: 13.9 | X18: 13.9 | Y18: 13.9 | Z18: 13.9 | AA18: 13.9 | AB18: 12.2 | AC18: 13.7 | AD18: 23.8 | AE18: 11.8 | AF18: 11.8 | AG18: 11.8 | AH18: 13.8 | AI18: 13.8
A19: 15 | B19: =ROW(A19) -> 19 | D19: 9 | E19: 9 | F19: 23 | G19: 23 | H19: 23 | I19: 23 | J19: 23 | K19: 23 | L19: 12 | M19: 12 | N19: 12 | O19: 12 | P19: 12 | Q19: 12 | R19: 12 | S19: 12 | T19: 12 | U19: 13.9 | V19: 13.9 | W19: 13.9 | X19: 13.9 | Y19: 13.9 | Z19: 13.9 | AA19: 13.9 | AB19: 12.2 | AC19: 13.7 | AD19: 23.8 | AE19: 11.8 | AF19: 11.8 | AG19: 11.8 | AH19: 13.8 | AI19: 13.8
A20: 16 | B20: =ROW(A20) -> 20 | D20: 9 | E20: 9 | F20: 23 | G20: 23 | H20: 23 | I20: 23 | J20: 23 | K20: 23 | L20: 12 | M20: 12 | N20: 12 | O20: 12 | P20: 12 | Q20: 12 | R20: 12 | S20: 12 | T20: 12 | U20: 13.9 | V20: 13.9 | W20: 13.9 | X20: 13.9 | Y20: 13.9 | Z20: 13.9 | AA20: 13.9 | AB20: 12.2 | AC20: 13.7 | AD20: 23.8 | AE20: 11.8 | AF20: 11.8 | AG20: 11.8 | AH20: 13.8 | AI20: 13.8
A21: 17 | B21: =ROW(A21) -> 21 | D21: 9 | E21: 9 | F21: 23 | G21: 23 | H21: 23 | I21: 23 | J21: 23 | K21: 23 | L21: 12 | M21: 12 | N21: 12 | O21: 12 | P21: 12 | Q21: 12 | R21: 12 | S21: 12 | T21: 12 | U21: 13.9 | V21: 13.9 | W21: 13.9 | X21: 13.9 | Y21: 13.9 | Z21: 13.9 | AA21: 13.9 | AB21: 12.2 | AC21: 13.7 | AD21: 23.8 | AE21: 11.8 | AF21: 11.8 | AG21: 11.8 | AH21: 13.8 | AI21: 13.8
A22: 18 | B22: =ROW(A22) -> 22 | C22: 18 à 22 | D22: 8.1 | E22: 8.1 | F22: 20.1 | G22: 20.1 | H22: 20.1 | I22: 20.1 | J22: 20.1 | K22: 20.1 | L22: 11.7 | M22: 11.7 | N22: 11.7 | O22: 11.7 | P22: 11.7 | Q22: 11.7 | R22: 11.7 | S22: 11.7 | T22: 11.7 | U22: 15.4 | V22: 15.4 | W22: 15.4 | X22: 15.4 | Y22: 15.4 | Z22: 15.4 | AA22: 15.4 | AB22: 11.8 | AC22: 13.1 | AD22: 22.7 | AE22: 11.3 | AF22: 11.3 | AG22: 11.3 | AH22: 14.1 | AI22: 14.1
A23: 19 | B23: =ROW(A23) -> 23 | D23: 8.1 | E23: 8.1 | F23: 20.1 | G23: 20.1 | H23: 20.1 | I23: 20.1 | J23: 20.1 | K23: 20.1 | L23: 11.7 | M23: 11.7 | N23: 11.7 | O23: 11.7 | P23: 11.7 | Q23: 11.7 | R23: 11.7 | S23: 11.7 | T23: 11.7 | U23: 15.4 | V23: 15.4 | W23: 15.4 | X23: 15.4 | Y23: 15.4 | Z23: 15.4 | AA23: 15.4 | AB23: 11.8 | AC23: 13.1 | AD23: 22.7 | AE23: 11.3 | AF23: 11.3 | AG23: 11.3 | AH23: 14.1 | AI23: 14.1
A24: 20 | B24: =ROW(A24) -> 24 | D24: 8.1 | E24: 8.1 | F24: 20.1 | G24: 20.1 | H24: 20.1 | I24: 20.1 | J24: 20.1 | K24: 20.1 | L24: 11.7 | M24: 11.7 | N24: 11.7 | O24: 11.7 | P24: 11.7 | Q24: 11.7 | R24: 11.7 | S24: 11.7 | T24: 11.7 | U24: 15.4 | V24: 15.4 | W24: 15.4 | X24: 15.4 | Y24: 15.4 | Z24: 15.4 | AA24: 15.4 | AB24: 11.8 | AC24: 13.1 | AD24: 22.7 | AE24: 11.3 | AF24: 11.3 | AG24: 11.3 | AH24: 14.1 | AI24: 14.1
A25: 21 | B25: =ROW(A25) -> 25 | D25: 8.1 | E25: 8.1 | F25: 20.1 | G25: 20.1 | H25: 20.1 | I25: 20.1 | J25: 20.1 | K25: 20.1 | L25: 11.7 | M25: 11.7 | N25: 11.7 | O25: 11.7 | P25: 11.7 | Q25: 11.7 | R25: 11.7 | S25: 11.7 | T25: 11.7 | U25: 15.4 | V25: 15.4 | W25: 15.4 | X25: 15.4 | Y25: 15.4 | Z25: 15.4 | AA25: 15.4 | AB25: 11.8 | AC25: 13.1 | AD25: 22.7 | AE25: 11.3 | AF25: 11.3 | AG25: 11.3 | AH25: 14.1 | AI25: 14.1
A26: 22 | B26: =ROW(A26) -> 26 | D26: 8.1 | E26: 8.1 | F26: 20.1 | G26: 20.1 | H26: 20.1 | I26: 20.1 | J26: 20.1 | K26: 20.1 | L26: 11.7 | M26: 11.7 | N26: 11.7 | O26: 11.7 | P26: 11.7 | Q26: 11.7 | R26: 11.7 | S26: 11.7 | T26: 11.7 | U26: 15.4 | V26: 15.4 | W26: 15.4 | X26: 15.4 | Y26: 15.4 | Z26: 15.4 | AA26: 15.4 | AB26: 11.8 | AC26: 13.1 | AD26: 22.7 | AE26: 11.3 | AF26: 11.3 | AG26: 11.3 | AH26: 14.1 | AI26: 14.1
A27: 23 | B27: =ROW(A27) -> 27 | C27: 23 à 27 | D27: 7.6 | E27: 7.6 | F27: 18.3 | G27: 18.3 | H27: 18.3 | I27: 18.3 | J27: 18.3 | K27: 18.3 | L27: 11.4 | M27: 11.4 | N27: 11.4 | O27: 11.4 | P27: 11.4 | Q27: 11.4 | R27: 11.4 | S27: 11.4 | T27: 11.4 | U27: 15.9 | V27: 15.9 | W27: 15.9 | X27: 15.9 | Y27: 15.9 | Z27: 15.9 | AA27: 15.9 | AB27: 11.4 | AC27: 12.8 | AD27: 22.1 | AE27: 11 | AF27: 11 | AG27: 11 | AH27: 14.2 | AI27: 14.2
A28: 24 | B28: =ROW(A28) -> 28 | D28: 7.6 | E28: 7.6 | F28: 18.3 | G28: 18.3 | H28: 18.3 | I28: 18.3 | J28: 18.3 | K28: 18.3 | L28: 11.4 | M28: 11.4 | N28: 11.4 | O28: 11.4 | P28: 11.4 | Q28: 11.4 | R28: 11.4 | S28: 11.4 | T28: 11.4 | U28: 15.9 | V28: 15.9 | W28: 15.9 | X28: 15.9 | Y28: 15.9 | Z28: 15.9 | AA28: 15.9 | AB28: 11.4 | AC28: 12.8 | AD28: 22.1 | AE28: 11 | AF28: 11 | AG28: 11 | AH28: 14.2 | AI28: 14.2
A29: 25 | B29: =ROW(A29) -> 29 | D29: 7.6 | E29: 7.6 | F29: 18.3 | G29: 18.3 | H29: 18.3 | I29: 18.3 | J29: 18.3 | K29: 18.3 | L29: 11.4 | M29: 11.4 | N29: 11.4 | O29: 11.4 | P29: 11.4 | Q29: 11.4 | R29: 11.4 | S29: 11.4 | T29: 11.4 | U29: 15.9 | V29: 15.9 | W29: 15.9 | X29: 15.9 | Y29: 15.9 | Z29: 15.9 | AA29: 15.9 | AB29: 11.4 | AC29: 12.8 | AD29: 22.1 | AE29: 11 | AF29: 11 | AG29: 11 | AH29: 14.2 | AI29: 14.2
A30: 26 | B30: =ROW(A30) -> 30 | D30: 7.6 | E30: 7.6 | F30: 18.3 | G30: 18.3 | H30: 18.3 | I30: 18.3 | J30: 18.3 | K30: 18.3 | L30: 11.4 | M30: 11.4 | N30: 11.4 | O30: 11.4 | P30: 11.4 | Q30: 11.4 | R30: 11.4 | S30: 11.4 | T30: 11.4 | U30: 15.9 | V30: 15.9 | W30: 15.9 | X30: 15.9 | Y30: 15.9 | Z30: 15.9 | AA30: 15.9 | AB30: 11.4 | AC30: 12.8 | AD30: 22.1 | AE30: 11 | AF30: 11 | AG30: 11 | AH30: 14.2 | AI30: 14.2
A31: 27 | B31: =ROW(A31) -> 31 | D31: 7.6 | E31: 7.6 | F31: 18.3 | G31: 18.3 | H31: 18.3 | I31: 18.3 | J31: 18.3 | K31: 18.3 | L31: 11.4 | M31: 11.4 | N31: 11.4 | O31: 11.4 | P31: 11.4 | Q31: 11.4 | R31: 11.4 | S31: 11.4 | T31: 11.4 | U31: 15.9 | V31: 15.9 | W31: 15.9 | X31: 15.9 | Y31: 15.9 | Z31: 15.9 | AA31: 15.9 | AB31: 11.4 | AC31: 12.8 | AD31: 22.1 | AE31: 11 | AF31: 11 | AG31: 11 | AH31: 14.2 | AI31: 14.2
A32: 28 | B32: =ROW(A32) -> 32 | C32: 28 à 32 | D32: 7.3 | E32: 7.3 | F32: 17.1 | G32: 17.1 | H32: 17.1 | I32: 17.1 | J32: 17.1 | K32: 17.1 | L32: 11 | M32: 11 | N32: 11 | O32: 11 | P32: 11 | Q32: 11 | R32: 11 | S32: 11 | T32: 11 | U32: 16 | V32: 16 | W32: 16 | X32: 16 | Y32: 16 | Z32: 16 | AA32: 16 | AB32: 11.1 | AC32: 12.6 | AD32: 21.7 | AE32: 10.8 | AF32: 10.8 | AG32: 10.8 | AH32: 14.1 | AI32: 14.1
A33: 29 | B33: =ROW(A33) -> 33 | D33: 7.3 | E33: 7.3 | F33: 17.1 | G33: 17.1 | H33: 17.1 | I33: 17.1 | J33: 17.1 | K33: 17.1 | L33: 11 | M33: 11 | N33: 11 | O33: 11 | P33: 11 | Q33: 11 | R33: 11 | S33: 11 | T33: 11 | U33: 16 | V33: 16 | W33: 16 | X33: 16 | Y33: 16 | Z33: 16 | AA33: 16 | AB33: 11.1 | AC33: 12.6 | AD33: 21.7 | AE33: 10.8 | AF33: 10.8 | AG33: 10.8 | AH33: 14.1 | AI33: 14.1
A34: 30 | B34: =ROW(A34) -> 34 | D34: 7.3 | E34: 7.3 | F34: 17.1 | G34: 17.1 | H34: 17.1 | I34: 17.1 | J34: 17.1 | K34: 17.1 | L34: 11 | M34: 11 | N34: 11 | O34: 11 | P34: 11 | Q34: 11 | R34: 11 | S34: 11 | T34: 11 | U34: 16 | V34: 16 | W34: 16 | X34: 16 | Y34: 16 | Z34: 16 | AA34: 16 | AB34: 11.1 | AC34: 12.6 | AD34: 21.7 | AE34: 10.8 | AF34: 10.8 | AG34: 10.8 | AH34: 14.1 | AI34: 14.1
A35: 31 | B35: =ROW(A35) -> 35 | D35: 7.3 | E35: 7.3 | F35: 17.1 | G35: 17.1 | H35: 17.1 | I35: 17.1 | J35: 17.1 | K35: 17.1 | L35: 11 | M35: 11 | N35: 11 | O35: 11 | P35: 11 | Q35: 11 | R35: 11 | S35: 11 | T35: 11 | U35: 16 | V35: 16 | W35: 16 | X35: 16 | Y35: 16 | Z35: 16 | AA35: 16 | AB35: 11.1 | AC35: 12.6 | AD35: 21.7 | AE35: 10.8 | AF35: 10.8 | AG35: 10.8 | AH35: 14.1 | AI35: 14.1
A36: 32 | B36: =ROW(A36) -> 36 | D36: 7.3 | E36: 7.3 | F36: 17.1 | G36: 17.1 | H36: 17.1 | I36: 17.1 | J36: 17.1 | K36: 17.1 | L36: 11 | M36: 11 | N36: 11 | O36: 11 | P36: 11 | Q36: 11 | R36: 11 | S36: 11 | T36: 11 | U36: 16 | V36: 16 | W36: 16 | X36: 16 | Y36: 16 | Z36: 16 | AA36: 16 | AB36: 11.1 | AC36: 12.6 | AD36: 21.7 | AE36: 10.8 | AF36: 10.8 | AG36: 10.8 | AH36: 14.1 | AI36: 14.1
A37: 33 | B37: =ROW(A37) -> 37 | C37: 33 à 37 | D37: 7.1 | E37: 7.1 | F37: 16.3 | G37: 16.3 | H37: 16.3 | I37: 16.3 | J37: 16.3 | K37: 16.3 | L37: 10.6 | M37: 10.6 | N37: 10.6 | O37: 10.6 | P37: 10.6 | Q37: 10.6 | R37: 10.6 | S37: 10.6 | T37: 10.6 | U37: 15.7 | V37: 15.7 | W37: 15.7 | X37: 15.7 | Y37: 15.7 | Z37: 15.7 | AA37: 15.7 | AB37: 10.8 | AC37: 12.4 | AD37: 21.4 | AE37: 10.6 | AF37: 10.6 | AG37: 10.6 | AH37: 13.9 | AI37: 13.9
A38: 34 | B38: =ROW(A38) -> 38 | D38: 7.1 | E38: 7.1 | F38: 16.3 | G38: 16.3 | H38: 16.3 | I38: 16.3 | J38: 16.3 | K38: 16.3 | L38: 10.6 | M38: 10.6 | N38: 10.6 | O38: 10.6 | P38: 10.6 | Q38: 10.6 | R38: 10.6 | S38: 10.6 | T38: 10.6 | U38: 15.7 | V38: 15.7 | W38: 15.7 | X38: 15.7 | Y38: 15.7 | Z38: 15.7 | AA38: 15.7 | AB38: 10.8 | AC38: 12.4 | AD38: 21.4 | AE38: 10.6 | AF38: 10.6 | AG38: 10.6 | AH38: 13.9 | AI38: 13.9
A39: 35 | B39: =ROW(A39) -> 39 | D39: 7.1 | E39: 7.1 | F39: 16.3 | G39: 16.3 | H39: 16.3 | I39: 16.3 | J39: 16.3 | K39: 16.3 | L39: 10.6 | M39: 10.6 | N39: 10.6 | O39: 10.6 | P39: 10.6 | Q39: 10.6 | R39: 10.6 | S39: 10.6 | T39: 10.6 | U39: 15.7 | V39: 15.7 | W39: 15.7 | X39: 15.7 | Y39: 15.7 | Z39: 15.7 | AA39: 15.7 | AB39: 10.8 | AC39: 12.4 | AD39: 21.4 | AE39: 10.6 | AF39: 10.6 | AG39: 10.6 | AH39: 13.9 | AI39: 13.9
A40: 36 | B40: =ROW(A40) -> 40 | D40: 7.1 | E40: 7.1 | F40: 16.3 | G40: 16.3 | H40: 16.3 | I40: 16.3 | J40: 16.3 | K40: 16.3 | L40: 10.6 | M40: 10.6 | N40: 10.6 | O40: 10.6 | P40: 10.6 | Q40: 10.6 | R40: 10.6 | S40: 10.6 | T40: 10.6 | U40: 15.7 | V40: 15.7 | W40: 15.7 | X40: 15.7 | Y40: 15.7 | Z40: 15.7 | AA40: 15.7 | AB40: 10.8 | AC40: 12.4 | AD40: 21.4 | AE40: 10.6 | AF40: 10.6 | AG40: 10.6 | AH40: 13.9 | AI40: 13.9
...

Sheet Sources_menus_deroulants
B1: Liste des essences | C1: 1=sur écorce | D1: Mme/M. | E1: Type vente | F1: type d'enchères | H1: Essences à cuber sur écorce | K1: Cubage | L1: Oui/Non
H2: Aulne noir | I2: Orme | K2: sur écorce | L2: oui
D3: Monsieur | E3: Individuelle | F3: m3 | H3: Bouleau | I3: Peuplier tremble | K3: sous écorce | L3: non
A4: Feuillu | B4: Alisier torminal | C4: 2 | D4: Madame | E4: Lots | F4: pour la pièce | H4: Charme | I4: Platane | K4: aucune
B5: Aulne noir | C5: 1 | H5: Châtaignier | I5: Poirier sauvage
B6: Bouleau | C6: 1 | H6: Chêne pédonculé | I6: Pommier sauvage
B7: Cerisier (verger) | C7: 2 | H7: Chêne rouge | I7: Robinier
B8: Charme | C8: 1 | H8: Chêne rouvre | I8: Saule
B9: Châtaignier | C9: 1 | H9: Chêne autre (à spécifier) | I9: Tilleul
B10: Chêne pédonculé | C10: 1 | H10: Erable champêtre | I10: Epicéa
B11: Chêne rouge | C11: 1 | H11: Erable plane | I11: Arole
B12: Chêne rouvre | C12: 1 | H12: Erable sycomore | I12: Douglas
B13: Chêne autre (à spécifier) | C13: 1 | H13: Frêne | I13: Mélèze
B14: Cognassier (verger) | C14: 2 | H14: Hêtre | I14: Pin noir
B15: Cormier | C15: 2 | H15: Marronnier | I15: Pin sylvestre
B16: Epine blanche (Aubépine) | C16: 2 | H16: Merisier | I16: Pin Weymouth
B17: Epine noire (Prunelier) | C17: 2 | H17: Noyer | I17: Sapin
B18: Erable champêtre | C18: 1
B19: Erable plane | C19: 1
B20: Erable sycomore | C20: 1
B21: Frêne | C21: 1
B22: Hêtre | C22: 1
B23: Marronnier | C23: 1
B24: Merisier | C24: 1 | G24: Ne pas modifier la disposition des éléments dans cet onglet !!
B25: Noyer | C25: 1 | G25: Il est possible de changer le texte, mai pas de déplacer les cases.
B26: Orme | C26: 1
B27: Peuplier tremble | C27: 1
B28: Platane | C28: 1
B29: Poirier (verger) | C29: 2
B30: Poirier sauvage | C30: 1
B31: Pommier (verger) | C31: 2
B32: Pommier sauvage | C32: 1
B33: Prunier (verger) | C33: 2
B34: Robinier | C34: 1
B35: Saule | C35: 1
B36: Tilleul | C36: 1
B37: Autre feuillu (à spécifier) | C37: 2
A38: Résineux | B38: Epicéa | C38: 1
B39: Arole | C39: 1
B40: Douglas | C40: 1
...
