Workbook
Name test: Formulaire_annonce_bois!$C$37:$C$50,Formulaire_annonce_bois!$G$37:$G$50,Formulaire_annonce_bois!$I$37:$I$50

Sheet Formulaire_annonce_bois
P3: Contact : Stéphane Brawand | Chargé d'affaires
B4: ForêtNeuchâtel | Longues Raies 13 2013 Colombier | 032 730 39 42 | P4: stephane.brawand@foretneuchatel.ch 032 730 39 42
D5: Vente de bois précieux 2025
D6: Formulaire d'annonce des bois
B8: 1. Règlement, déroulement et délais
B10: Tout vendeur s'engage à respecter le règlement et le déroulement de la vente, dont les documents sont disponibles sur www.foretneuchatel.ch
B12: Rappel important et notice d'utilisation de ce formulaire d'annonce :
B13: 1. Selectionnez l'essence dans le menu déroulant de la colone "Essence". Le fichier Excel indique ensuite quelle méthode de cubage doit être appliquée pour cette essence et le pourcentage de déduction selon l'usage suisse du commerce des bois ronds.
B14: 2. Qualité : Les vieux bois, bois secs ou issus d’exploitation forcées seront obligatoirement mentionnés lors de l’annonce, dans "Remarques"
B15: 3. Pour les "autres feuillus" et "autres résineux", précisez l'essence dans les remarques.
B16: 4. Entrez les dimensions de chaque bille dans les colonnes blanches et indiquez si la bille est cerfifiée FSC/PEFC
B17: 5. Si vous souhaitez déduire une partie du volume de la bille pour exclure un défaut, vous êtes invités à le faire dans la colonne "Déduction volontaire" ou indiquer la longeur déduite volontairement dans les remarques
B18: 6. Indiquez les caractéristiques particulières dans les remarques (p. ex. bois ondé, bois de résonance, "bois de lune", etc.)
B20: 2. Contacts et données du vendeur / propriétaire
B22: Données du Vendeur (Propriétaire) | J22: Données de l'annonceur
B23: Nom | J23: Nom
B24: Adresse | J24: Adresse
B25: Compl. adresse | J25: NPA / Lieu
B26: Code postal | J26: N° téléphone
B27: Lieu | J27: Email
B28: N° téléphone
B29: Email | J29: Volume total | L29: [m3] | N29: =SUBTOTAL(9,L39:L113) -> 0
B30: IBAN
B35: 3. Liste des bois
B37: N° plaquette fournisseur | C37: Essence (menu déroulant, les résineux sont à la fin de la liste) | D37: Cubage à appliquer par le vendeur | E37: Diamètre | F37: Longueur sans la sur-mesure | G37: Volume | H37: Déduction écorce | I37: Volume sous-écorce | J37: Déduc. volontaire du vendeur (% du volume sous écorce) | K37: Volume net (m3) colonne de calcul pour permettre une belle présentation de la colonne suivante | L37: Volume net | M37: FSC PEFC | N37: N° RDUE | O37: Remarques internes | P37: Type de vente (menu déroulant) | Q37: Type d'enchère (menu déroulant) | R37: Remarques
E38: [cm] | F38: [m] | G38: [m3] | H38: [%] | I38: [m3] | J38: [%] | L38: [m3] | M38: oui/non
D39: =IF(VLOOKUP(C39,Sources_menus_deroulants!$B$1:$C$100,2,FALSE)=1,Sources_menus_deroulants!$K$2,Sources_menus_deroulants!$K$3) -> #N/A | G39: =PI()*(((E39/100)/2)^2)*F39 -> 0 | H39: =IF(D39=Sources_menus_deroulants!$K$2,INDEX('Déduction écorce'!$A$1:$XN$1000,(VLOOKUP(E39,'Déduction écorce'!$A$5:$B$184,2,FALSE)),(HLOOKUP(C39,'Déduction écorce'!$D$1:$AI$2,2,FALSE))),Sources_menus_deroulants!$K$4) -> #N/A | I39: =IF(D39="sur écorce",G39*(1-(H39/100)),G39) -> #N/A | K39: =I39*(1-(J39/100)) -> #N/A | L39: =SUMIF(K39,">0",K39) -> 0
D40: =IF(VLOOKUP(C40,Sources_menus_deroulants!$B$1:$C$100,2,FALSE)=1,Sources_menus_deroulants!$K$2,Sources_menus_deroulants!$K$3) -> #N/A | G40: =PI()*(((E40/100)/2)^2)*F40 -> 0 | H40: =IF(D40=Sources_menus_deroulants!$K$2,INDEX('Déduction écorce'!$A$1:$XN$1000,(VLOOKUP(E40,'Déduction écorce'!$A$5:$B$184,2,FALSE)),(HLOOKUP(C40,'Déduction écorce'!$D$1:$AI$2,2,FALSE))),Sources_menus_deroulants!$K$4) -> #N/A | I40: =IF(D40="sur écorce",G40*(1-(H40/100)),G40) -> #N/A | K40: =I40*(1-(J40/100)) -> #N/A | L40: =SUMIF(K40,">0",K40) -> 0
D41: =IF(VLOOKUP(C41,Sources_menus_deroulants!$B$1:$C$100,2,FALSE)=1,Sources_menus_deroulants!$K$2,Sources_menus_deroulants!$K$3) -> #N/A | G41: =PI()*(((E41/100)/2)^2)*F41 -> 0 | H41: =IF(D41=Sources_menus_deroulants!$K$2,INDEX('Déduction écorce'!$A$1:$XN$1000,(VLOOKUP(E41,'Déduction écorce'!$A$5:$B$184,2,FALSE)),(HLOOKUP(C41,'Déduction écorce'!$D$1:$AI$2,2,FALSE))),Sources_menus_deroulants!$K$4) -> #N/A | I41: =IF(D41="sur écorce",G41*(1-(H41/100)),G41) -> #N/A | K41: =I41*(1-(J41/100)) -> #N/A | L41: =SUMIF(K41,">0",K41) -> 0
D42: =IF(VLOOKUP(C42,Sources_menus_deroulants!$B$1:$C$100,2,FALSE)=1,Sources_menus_deroulants!$K$2,Sources_menus_deroulants!$K$3) -> #N/A | G42: =PI()*(((E42/100)/2)^2)*F42 -> 0 | H42: =IF(D42=Sources_menus_deroulants!$K$2,INDEX('Déduction écorce'!$A$1:$XN$1000,(VLOOKUP(E42,'Déduction écorce'!$A$5:$B$184,2,FALSE)),(HLOOKUP(C42,'Déduction écorce'!$D$1:$AI$2,2,FALSE))),Sources_menus_deroulants!$K$4) -> #N/A | I42: =IF(D42="sur écorce",G42*(1-(H42/100)),G42) -> #N/A | K42: =I42*(1-(J42/100)) -> #N/A | L42: =SUMIF(K42,">0",K42) -> 0
D43: =IF(VLOOKUP(C43,Sources_menus_deroulants!$B$1:$C$100,2,FALSE)=1,Sources_menus_deroulants!$K$2,Sources_menus_deroulants!$K$3) -> #N/A | G43: =PI()*(((E43/100)/2)^2)*F43 -> 0 | H43: =IF(D43=Sources_menus_deroulants!$K$2,INDEX('Déduction écorce'!$A$1:$XN$1000,(VLOOKUP(E43,'Déduction écorce'!$A$5:$B$184,2,FALSE)),(HLOOKUP(C43,'Déduction écorce'!$D$1:$AI$2,2,FALSE))),Sources_menus_deroulants!$K$4) -> #N/A | I43: =IF(D43="sur écorce",G43*(1-(H43/100)),G43) -> #N/A | K43: =I43*(1-(J43/100)) -> #N/A | L43: =SUMIF(K43,">0",K43) -> 0
D44: =IF(VLOOKUP(C44,Sources_menus_deroulants!$B$1:$C$100,2,FALSE)=1,Sources_menus_deroulants!$K$2,Sources_menus_deroulants!$K$3) -> #N/A | G44: =PI()*(((E44/100)/2)^2)*F44 -> 0 | H44: =IF(D44=Sources_menus_deroulants!$K$2,INDEX('Déduction écorce'!$A$1:$XN$1000,(VLOOKUP(E44,'Déduction écorce'!$A$5:$B$184,2,FALSE)),(HLOOKUP(C44,'Déduction écorce'!$D$1:$AI$2,2,FALSE))),Sources_menus_deroulants!$K$4) -> #N/A | I44: =IF(D44="sur écorce",G44*(1-(H44/100)),G44) -> #N/A | K44: =I44*(1-(J44/100)) -> #N/A | L44: =SUMIF(K44,">0",K44) -> 0
D45: =IF(VLOOKUP(C45,Sources_menus_deroulants!$B$1:$C$100,2,FALSE)=1,Sources_menus_deroulants!$K$2,Sources_menus_deroulants!$K$3) -> #N/A | G45: =PI()*(((E45/100)/2)^2)*F45 -> 0 | H45: =IF(D45=Sources_menus_deroulants!$K$2,INDEX('Déduction écorce'!$A$1:$XN$1000,(VLOOKUP(E45,'Déduction écorce'!$A$5:$B$184,2,FALSE)),(HLOOKUP(C45,'Déduction écorce'!$D$1:$AI$2,2,FALSE))),Sources_menus_deroulants!$K$4) -> #N/A | I45: =IF(D45="sur écorce",G45*(1-(H45/100)),G45) -> #N/A | K45: =I45*(1-(J45/100)) -> #N/A | L45: =SUMIF(K45,">0",K45) -> 0
D46: =IF(VLOOKUP(C46,Sources_menus_deroulants!$B$1:$C$100,2,FALSE)=1,Sources_menus_deroulants!$K$2,Sources_menus_deroulants!$K$3) -> #N/A | G46: =PI()*(((E46/100)/2)^2)*F46 -> 0 | H46: =IF(D46=Sources_menus_deroulants!$K$2,INDEX('Déduction écorce'!$A$1:$XN$1000,(VLOOKUP(E46,'Déduction écorce'!$A$5:$B$184,2,FALSE)),(HLOOKUP(C46,'Déduction écorce'!$D$1:$AI$2,2,FALSE))),Sources_menus_deroulants!$K$4) -> #N/A | I46: =IF(D46="sur écorce",G46*(1-(H46/100)),G46) -> #N/A | K46: =I46*(1-(J46/100)) -> #N/A | L46: =SUMIF(K46,">0",K46) -> 0
D47: =IF(VLOOKUP(C47,Sources_menus_deroulants!$B$1:$C$100,2,FALSE)=1,Sources_menus_deroulants!$K$2,Sources_menus_deroulants!$K$3) -> #N/A | G47: =PI()*(((E47/100)/2)^2)*F47 -> 0 | H47: =IF(D47=Sources_menus_deroulants!$K$2,INDEX('Déduction écorce'!$A$1:$XN$1000,(VLOOKUP(E47,'Déduction écorce'!$A$5:$B$184,2,FALSE)),(HLOOKUP(C47,'Déduction écorce'!$D$1:$AI$2,2,FALSE))),Sources_menus_deroulants!$K$4) -> #N/A | I47: =IF(D47="sur écorce",G47*(1-(H47/100)),G47) -> #N/A | K47: =I47*(1-(J47/100)) -> #N/A | L47: =SUMIF(K47,">0",K47) -> 0
D48: =IF(VLOOKUP(C48,Sources_menus_deroulants!$B$1:$C$100,2,FALSE)=1,Sources_menus_deroulants!$K$2,Sources_menus_deroulants!$K$3) -> #N/A | G48: =PI()*(((E48/100)/2)^2)*F48 -> 0 | H48: =IF(D48=Sources_menus_deroulants!$K$2,INDEX('Déduction écorce'!$A$1:$XN$1000,(VLOOKUP(E48,'Déduction écorce'!$A$5:$B$184,2,FALSE)),(HLOOKUP(C48,'Déduction écorce'!$D$1:$AI$2,2,FALSE))),Sources_menus_deroulants!$K$4) -> #N/A | I48: =IF(D48="sur écorce",G48*(1-(H48/100)),G48) -> #N/A | K48: =I48*(1-(J48/100)) -> #N/A | L48: =SUMIF(K48,">0",K48) -> 0
D49: =IF(VLOOKUP(C49,Sources_menus_deroulants!$B$1:$C$100,2,FALSE)=1,Sources_menus_deroulants!$K$2,Sources_menus_deroulants!$K$3) -> #N/A | G49: =PI()*(((E49/100)/2)^2)*F49 -> 0 | H49: =IF(D49=Sources_menus_deroulants!$K$2,INDEX('Déduction écorce'!$A$1:$XN$1000,(VLOOKUP(E49,'Déduction écorce'!$A$5:$B$184,2,FALSE)),(HLOOKUP(C49,'Déduction écorce'!$D$1:$AI$2,2,FALSE))),Sources_menus_deroulants!$K$4) -> #N/A | I49: =IF(D49="sur écorce",G49*(1-(H49/100)),G49) -> #N/A | K49: =I49*(1-(J49/100)) -> #N/A | L49: =SUMIF(K49,">0",K49) -> 0
D50: =IF(VLOOKUP(C50,Sources_menus_deroulants!$B$1:$C$100,2,FALSE)=1,Sources_menus_deroulants!$K$2,Sources_menus_deroulants!$K$3) -> #N/A | G50: =PI()*(((E50/100)/2)^2)*F50 -> 0 | H50: =IF(D50=Sources_menus_deroulants!$K$2,INDEX('Déduction écorce'!$A$1:$XN$1000,(VLOOKUP(E50,'Déduction écorce'!$A$5:$B$184,2,FALSE)),(HLOOKUP(C50,'Déduction écorce'!$D$1:$AI$2,2,FALSE))),Sources_menus_deroulants!$K$4) -> #N/A | I50: =IF(D50="sur écorce",G50*(1-(H50/100)),G50) -> #N/A | K50: =I50*(1-(J50/100)) -> #N/A | L50: =SUMIF(K50,">0",K50) -> 0
... D113: =IF(VLOOKUP(C113,Sources_menus_deroulants!$B$1:$C$100,2,FALSE)=1,Sources_menus_deroulants!$K$2,Sources_menus_deroulants!$K$3) -> #N/A | G113: =PI()*(((E113/100)/2)^2)*F113 -> 0 | H113: =IF(D113=Sources_menus_deroulants!$K$2,INDEX('Déduction écorce'!$A$1:$XN$1000,(VLOOKUP(E113,'Déduction écorce'!$A$5:$B$184,2,FALSE)),(HLOOKUP(C113,'Déduction écorce'!$D$1:$AI$2,2,FALSE))),Sources_menus_deroulants!$K$4) -> #N/A | I113: =IF(D113="sur écorce",G113*(1-(H113/100)),G113) -> #N/A | K113: =I113*(1-(J113/100)) -> #N/A | L113: =SUMIF(K113,">0",K113) -> 0

Sheet Déduction écorce
A1: Selon usages suisses | D1: Hêtre | E1: Charme | F1: Chêne pédonculé | G1: Chêne rouvre | H1: Chêne rouge | I1: Chêne autre (à spécifier) | J1: Robinier | K1: Peuplier tremble | L1: Erable sycomore | M1: Erable champêtre | N1: Erable plane | O1: Châtaignier | P1: Marronnier | Q1: Aulne noir | R1: Merisier | S1: Platane | T1: Saule | U1: Frêne | V1: Pommier sauvage | W1: Poirier sauvage | X1: Bouleau | Y1: Tilleul | Z1: Noyer | AA1: Orme | AB1: Epicéa | AC1: Sapin | AD1: Mélèze | AE1: Pin sylvestre | AF1: Pin noir | AG1: Arole | AH1: Pin Weymouth | AI1: Douglas
D2: =COLUMN(D1) -> 4 | E2: =COLUMN(E1) -> 5 | F2: =COLUMN(F1) -> 6 | G2: =COLUMN(G1) -> 7 | H2: =COLUMN(H1) -> 8 | I2: =COLUMN(I1) -> 9 | J2: =COLUMN(J1) -> 10 | K2: =COLUMN(K1) -> 11 | ... AI2: =COLUMN(AI1) -> 35
A3: Diamètre selon Usage suisse | B3: N° ligne | C3: Classe de diamètre dérivée cm | D3: Hêtre, Charme | F3: Chêne, Chêne pédonculé, Chêne rouvre, Robinier, Tremble | L3: Erable sycomore, champêtre, plane, Châtaignier, Marronnier, Aulne, Cerisier, Platane, Saule | U3: Frêne, Pommier, Poirier, Bouleau, Tilleul, Noyer, Orme | AB3: Epicéa | AC3: Sapin | AD3: Mélèze | AE3: Pin, Pin noir, Arole | AH3: Douglas, Pin Weymouth, autre résineux
A4: cm | C4: cm | D4: % | F4: % | L4: % | U4: % | AB4: % | AC4: % | AD4: % | AE4: % | AH4: %
A5: 1 | B5: =ROW(A5) -> 5 | C5: 0 à 12 | D5: 10.6 | E5: 10.6 | F5: 28.7 | G5: 28.7 | H5: 28.7 | I5: 28.7 | J5: 28.7 | K5: 28.7 | L5: 12.1 | M5: 12.1 | N5: 12.1 | O5: 12.1 | P5: 12.1 | Q5: 12.1 | R5: 12.1 | S5: 12.1 | T5: 12.1 | U5: 9.8 | V5: 9.8 | W5: 9.8 | X5: 9.8 | Y5: 9.8 | Z5: 9.8 | AA5: 9.8 | AB5: 13 | AC5: 14.8 | AD5: 25.9 | AE5: 12.8 | AF5: 12.8 | AG5: 12.8 | AH5: 12.9 | AI5: 12.9
A6: 2 | B6: =ROW(A6) -> 6 | D6: 10.6 | E6: 10.6 | F6: 28.7 | G6: 28.7 | H6: 28.7 | I6: 28.7 | J6: 28.7 | K6: 28.7 | L6: 12.1 | M6: 12.1 | N6: 12.1 | O6: 12.1 | P6: 12.1 | Q6: 12.1 | R6: 12.1 | S6: 12.1 | T6: 12.1 | U6: 9.8 | V6: 9.8 | W6: 9.8 | X6: 9.8 | Y6: 9.8 | Z6: 9.8 | AA6: 9.8 | AB6: 13 | AC6: 14.8 | AD6: 25.9 | AE6: 12.8 | AF6: 12.8 | AG6: 12.8 | AH6: 12.9 | AI6: 12.9
A7: 3 | B7: =ROW(A7) -> 7 | D7: 10.6 | E7: 10.6 | F7: 28.7 | G7: 28.7 | H7: 28.7 | I7: 28.7 | J7: 28.7 | K7: 28.7 | L7: 12.1 | M7: 12.1 | N7: 12.1 | O7: 12.1 | P7: 12.1 | Q7: 12.1 | R7: 12.1 | S7: 12.1 | T7: 12.1 | U7: 9.8 | V7: 9.8 | W7: 9.8 | X7: 9.8 | Y7: 9.8 | Z7: 9.8 | AA7: 9.8 | AB7: 13 | AC7: 14.8 | AD7: 25.9 | AE7: 12.8 | AF7: 12.8 | AG7: 12.8 | AH7: 12.9 | AI7: 12.9
A8: 4 | B8: =ROW(A8) -> 8 | D8: 10.6 | E8: 10.6 | F8: 28.7 | G8: 28.7 | H8: 28.7 | I8: 28.7 | J8: 28.7 | K8: 28.7 | L8: 12.1 | M8: 12.1 | N8: 12.1 | O8: 12.1 | P8: 12.1 | Q8: 12.1 | R8: 12.1 | S8: 12.1 | T8: 12.1 | U8: 9.8 | V8: 9.8 | W8: 9.8 | X8: 9.8 | Y8: 9.8 | Z8: 9.8 | AA8: 9.8 | AB8: 13 | AC8: 14.8 | AD8: 25.9 | AE8: 12.8 | AF8: 12.8 | AG8: 12.8 | AH8: 12.9 | AI8: 12.9
A9: 5 | B9: =ROW(A9) -> 9 | D9: 10.6 | E9: 10.6 | F9: 28.7 | G9: 28.7 | H9: 28.7 | I9: 28.7 | J9: 28.7 | K9: 28.7 | L9: 12.1 | M9: 12.1 | N9: 12.1 | O9: 12.1 | P9: 12.1 | Q9: 12.1 | R9: 12.1 | S9: 12.1 | T9: 12.1 | U9: 9.8 | V9: 9.8 | W9: 9.8 | X9: 9.8 | Y9: 9.8 | Z9: 9.8 | AA9: 9.8 | AB9: 13 | AC9: 14.8 | AD9: 25.9 | AE9: 12.8 | AF9: 12.8 | AG9: 12.8 | AH9: 12.9 | AI9: 12.9
A10: 6 | B10: =ROW(A10) -> 10 | D10: 10.6 | E10: 10.6 | F10: 28.7 | G10: 28.7 | H10: 28.7 | I10: 28.7 | J10: 28.7 | K10: 28.7 | L10: 12.1 | M10: 12.1 | N10: 12.1 | O10: 12.1 | P10: 12.1 | Q10: 12.1 | R10: 12.1 | S10: 12.1 | T10: 12.1 | U10: 9.8 | V10: 9.8 | W10: 9.8 | X10: 9.8 | Y10: 9.8 | Z10: 9.8 | AA10: 9.8 | AB10: 13 | AC10: 14.8 | AD10: 25.9 | AE10: 12.8 | AF10: 12.8 | AG10: 12.8 | AH10: 12.9 | AI10: 12.9
A11: 7 | B11: =ROW(A11) -> 11 | D11: 10.6 | E11: 10.6 | F11: 28.7 | G11: 28.7 | H11: 28.7 | I11: 28.7 | J11: 28.7 | K11: 28.7 | L11: 12.1 | M11: 12.1 | N11: 12.1 | O11: 12.1 | P11: 12.1 | Q11: 12.1 | R11: 12.1 | S11: 12.1 | T11: 12.1 | U11: 9.8 | V11: 9.8 | W11: 9.8 | X11: 9.8 | Y11: 9.8 | Z11: 9.8 | AA11: 9.8 | AB11: 13 | AC11: 14.8 | AD11: 25.9 | AE11: 12.8 | AF11: 12.8 | AG11: 12.8 | AH11: 12.9 | AI11: 12.9
A12: 8 | B12: =ROW(A12) -> 12 | D12: 10.6 | E12: 10.6 | F12: 28.7 | G12: 28.7 | H12: 28.7 | I12: 28.7 | J12: 28.7 | K12: 28.7 | L12: 12.1 | M12: 12.1 | N12: 12.1 | O12: 12.1 | P12: 12.1 | Q12: 12.1 | R12: 12.1 | S12: 12.1 | T12: 12.1 | U12: 9.8 | V12: 9.8 | W12: 9.8 | X12: 9.8 | Y12: 9.8 | Z12: 9.8 | AA12: 9.8 | AB12: 13 | AC12: 14.8 | AD12: 25.9 | AE12: 12.8 | AF12: 12.8 | AG12: 12.8 | AH12: 12.9 | AI12: 12.9
A13: 9 | B13: =ROW(A13) -> 13 | D13: 10.6 | E13: 10.6 | F13: 28.7 | G13: 28.7 | H13: 28.7 | I13: 28.7 | J13: 28.7 | K13: 28.7 | L13: 12.1 | M13: 12.1 | N13: 12.1 | O13: 12.1 | P13: 12.1 | Q13: 12.1 | R13: 12.1 | S13: 12.1 | T13: 12.1 | U13: 9.8 | V13: 9.8 | W13: 9.8 | X13: 9.8 | Y13: 9.8 | Z13: 9.8 | AA13: 9.8 | AB13: 13 | AC13: 14.8 | AD13: 25.9 | AE13: 12.8 | AF13: 12.8 | AG13: 12.8 | AH13: 12.9 | AI13: 12.9
A14: 10 | B14: =ROW(A14) -> 14 | D14: 10.6 | E14: 10.6 | F14: 28.7 | G14: 28.7 | H14: 28.7 | I14: 28.7 | J14: 28.7 | K14: 28.7 | L14: 12.1 | M14: 12.1 | N14: 12.1 | O14: 12.1 | P14: 12.1 | Q14: 12.1 | R14: 12.1 | S14: 12.1 | T14: 12.1 | U14: 9.8 | V14: 9.8 | W14: 9.8 | X14: 9.8 | Y14: 9.8 | Z14: 9.8 | AA14: 9.8 | AB14: 13 | AC14: 14.8 | AD14: 25.9 | AE14: 12.8 | AF14: 12.8 | AG14: 12.8 | AH14: 12.9 | AI14: 12.9
A15: 11 | B15: =ROW(A15) -> 15 | D15: 10.6 | E15: 10.6 | F15: 28.7 | G15: 28.7 | H15: 28.7 | I15: 28.7 | J15: 28.7 | K15: 28.7 | L15: 12.1 | M15: 12.1 | N15: 12.1 | O15: 12.1 | P15: 12.1 | Q15: 12.1 | R15: 12.1 | S15: 12.1 | T15: 12.1 | U15: 9.8 | V15: 9.8 | W15: 9.8 | X15: 9.8 | Y15: 9.8 | Z15: 9.8 | AA15: 9.8 | AB15: 13 | AC15: 14.8 | AD15: 25.9 | AE15: 12.8 | AF15: 12.8 | AG15: 12.8 | AH15: 12.9 | AI15: 12.9
A16: 12 | B16: =ROW(A16) -> 16 | D16: 10.6 | E16: 10.6 | F16: 28.7 | G16: 28.7 | H16: 28.7 | I16: 28.7 | J16: 28.7 | K16: 28.7 | L16: 12.1 | M16: 12.1 | N16: 12.1 | O16: 12.1 | P16: 12.1 | Q16: 12.1 | R16: 12.1 | S16: 12.1 | T16: 12.1 | U16: 9.8 | V16: 9.8 | W16: 9.8 | X16: 9.8 | Y16: 9.8 | Z16: 9.8 | AA16: 9.8 | AB16: 13 | AC16: 14.8 | AD16: 25.9 | AE16: 12.8 | AF16: 12.8 | AG16: 12.8 | AH16: 12.9 | AI16: 12.9
A17: 13 | B17: =ROW(A17) -> 17 | C17: 13 à 17 | D17: 9 | E17: 9 | F17: 23 | G17: 23 | H17: 23 | I17: 23 | J17: 23 | K17: 23 | L17: 12 | M17: 12 | N17: 12 | O17: 12 | P17: 12 | Q17: 12 | R17: 12 | S17: 12 | T17: 12 | U17: 13.9 | V17: 13.9 | W17: 13.9 | X17: 13.9 | Y17: 13.9 | Z17: 13.9 | AA17: 13.9 | AB17: 12.2 | AC17: 13.7 | AD17: 23.8 | AE17: 11.8 | AF17: 11.8 | AG17: 11.8 | AH17: 13.8 | AI17: 13.8
A18: 14 | B18: =ROW(A18) -> 18 | D18: 9 | E18: 9 | F18: 23 | G18: 23 | H18: 23 | I18: 23 | J18: 23 | K18: 23 | L18: 12 | M18: 12 | N18: 12 | O18: 12 | P18: 12 | Q18: 12 | R18: 12 | S18: 12 | T18: 12 | U18: 13.9 | V18: 13.9 | W18: 13.9 | X18: 13.9 | Y18: 13.9 | Z18: 13.9 | AA18: 13.9 | AB18: 12.2 | AC18: 13.7 | AD18: 23.8 | AE18: 11.8 | AF18: 11.8 | AG18: 11.8 | AH18: 13.8 | AI18: 13.8
A19: 15 | B19: =ROW(A19) -> 19 | D19: 9 | E19: 9 | F19: 23 | G19: 23 | H19: 23 | I19: 23 | J19: 23 | K19: 23 | L19: 12 | M19: 12 | N19: 12 | O19: 12 | P19: 12 | Q19: 12 | R19: 12 | S19: 12 | T19: 12 | U19: 13.9 | V19: 13.9 | W19: 13.9 | X19: 13.9 | Y19: 13.9 | Z19: 13.9 | AA19: 13.9 | AB19: 12.2 | AC19: 13.7 | AD19: 23.8 | AE19: 11.8 | AF19: 11.8 | AG19: 11.8 | AH19: 13.8 | AI19: 13.8
A20: 16 | B20: =ROW(A20) -> 20 | D20: 9 | E20: 9 | F20: 23 | G20: 23 | H20: 23 | I20: 23 | J20: 23 | K20: 23 | L20: 12 | M20: 12 | N20: 12 | O20: 12 | P20: 12 | Q20: 12 | R20: 12 | S20: 12 | T20: 12 | U20: 13.9 | V20: 13.9 | W20: 13.9 | X20: 13.9 | Y20: 13.9 | Z20: 13.9 | AA20: 13.9 | AB20: 12.2 | AC20: 13.7 | AD20: 23.8 | AE20: 11.8 | AF20: 11.8 | AG20: 11.8 | AH20: 13.8 | AI20: 13.8
A21: 17 | B21: =ROW(A21) -> 21 | D21: 9 | E21: 9 | F21: 23 | G21: 23 | H21: 23 | I21: 23 | J21: 23 | K21: 23 | L21: 12 | M21: 12 | N21: 12 | O21: 12 | P21: 12 | Q21: 12 | R21: 12 | S21: 12 | T21: 12 | U21: 13.9 | V21: 13.9 | W21: 13.9 | X21: 13.9 | Y21: 13.9 | Z21: 13.9 | AA21: 13.9 | AB21: 12.2 | AC21: 13.7 | AD21: 23.8 | AE21: 11.8 | AF21: 11.8 | AG21: 11.8 | AH21: 13.8 | AI21: 13.8
A22: 18 | B22: =ROW(A22) -> 22 | C22: 18 à 22 | D22: 8.1 | E22: 8.1 | F22: 20.1 | G22: 20.1 | H22: 20.1 | I22: 20.1 | J22: 20.1 | K22: 20.1 | L22: 11.7 | M22: 11.7 | N22: 11.7 | O22: 11.7 | P22: 11.7 | Q22: 11.7 | R22: 11.7 | S22: 11.7 | T22: 11.7 | U22: 15.4 | V22: 15.4 | W22: 15.4 | X22: 15.4 | Y22: 15.4 | Z22: 15.4 | AA22: 15.4 | AB22: 11.8 | AC22: 13.1 | AD22: 22.7 | AE22: 11.3 | AF22: 11.3 | AG22: 11.3 | AH22: 14.1 | AI22: 14.1
A23: 19 | B23: =ROW(A23) -> 23 | D23: 8.1 | E23: 8.1 | F23: 20.1 | G23: 20.1 | H23: 20.1 | I23: 20.1 | J23: 20.1 | K23: 20.1 | L23: 11.7 | M23: 11.7 | N23: 11.7 | O23: 11.7 | P23: 11.7 | Q23: 11.7 | R23: 11.7 | S23: 11.7 | T23: 11.7 | U23: 15.4 | V23: 15.4 | W23: 15.4 | X23: 15.4 | Y23: 15.4 | Z23: 15.4 | AA23: 15.4 | AB23: 11.8 | AC23: 13.1 | AD23: 22.7 | AE23: 11.3 | AF23: 11.3 | AG23: 11.3 | AH23: 14.1 | AI23: 14.1
A24: 20 | B24: =ROW(A24) -> 24 | D24: 8.1 | E24: 8.1 | F24: 20.1 | G24: 20.1 | H24: 20.1 | I24: 20.1 | J24: 20.1 | K24: 20.1 | L24: 11.7 | M24: 11.7 | N24: 11.7 | O24: 11.7 | P24: 11.7 | Q24: 11.7 | R24: 11.7 | S24: 11.7 | T24: 11.7 | U24: 15.4 | V24: 15.4 | W24: 15.4 | X24: 15.4 | Y24: 15.4 | Z24: 15.4 | AA24: 15.4 | AB24: 11.8 | AC24: 13.1 | AD24: 22.7 | AE24: 11.3 | AF24: 11.3 | AG24: 11.3 | AH24: 14.1 | AI24: 14.1
A25: 21 | B25: =ROW(A25) -> 25 | D25: 8.1 | E25: 8.1 | F25: 20.1 | G25: 20.1 | H25: 20.1 | I25: 20.1 | J25: 20.1 | K25: 20.1 | L25: 11.7 | M25: 11.7 | N25: 11.7 | O25: 11.7 | P25: 11.7 | Q25: 11.7 | R25: 11.7 | S25: 11.7 | T25: 11.7 | U25: 15.4 | V25: 15.4 | W25: 15.4 | X25: 15.4 | Y25: 15.4 | Z25: 15.4 | AA25: 15.4 | AB25: 11.8 | AC25: 13.1 | AD25: 22.7 | AE25: 11.3 | AF25: 11.3 | AG25: 11.3 | AH25: 14.1 | AI25: 14.1
A26: 22 | B26: =ROW(A26) -> 26 | D26: 8.1 | E26: 8.1 | F26: 20.1 | G26: 20.1 | H26: 20.1 | I26: 20.1 | J26: 20.1 | K26: 20.1 | L26: 11.7 | M26: 11.7 | N26: 11.7 | O26: 11.7 | P26: 11.7 | Q26: 11.7 | R26: 11.7 | S26: 11.7 | T26: 11.7 | U26: 15.4 | V26: 15.4 | W26: 15.4 | X26: 15.4 | Y26: 15.4 | Z26: 15.4 | AA26: 15.4 | AB26: 11.8 | AC26: 13.1 | AD26: 22.7 | AE26: 11.3 | AF26: 11.3 | AG26: 11.3 | AH26: 14.1 | AI26: 14.1
A27: 23 | B27: =ROW(A27) -> 27 | C27: 23 à 27 | D27: 7.6 | E27: 7.6 | F27: 18.3 | G27: 18.3 | H27: 18.3 | I27: 18.3 | J27: 18.3 | K27: 18.3 | L27: 11.4 | M27: 11.4 | N27: 11.4 | O27: 11.4 | P27: 11.4 | Q27: 11.4 | R27: 11.4 | S27: 11.4 | T27: 11.4 | U27: 15.9 | V27: 15.9 | W27: 15.9 | X27: 15.9 | Y27: 15.9 | Z27: 15.9 | AA27: 15.9 | AB27: 11.4 | AC27: 12.8 | AD27: 22.1 | AE27: 11 | AF27: 11 | AG27: 11 | AH27: 14.2 | AI27: 14.2
A28: 24 | B28: =ROW(A28) -> 28 | D28: 7.6 | E28: 7.6 | F28: 18.3 | G28: 18.3 | H28: 18.3 | I28: 18.3 | J28: 18.3 | K28: 18.3 | L28: 11.4 | M28: 11.4 | N28: 11.4 | O28: 11.4 | P28: 11.4 | Q28: 11.4 | R28: 11.4 | S28: 11.4 | T28: 11.4 | U28: 15.9 | V28: 15.9 | W28: 15.9 | X28: 15.9 | Y28: 15.9 | Z28: 15.9 | AA28: 15.9 | AB28: 11.4 | AC28: 12.8 | AD28: 22.1 | AE28: 11 | AF28: 11 | AG28: 11 | AH28: 14.2 | AI28: 14.2
A29: 25 | B29: =ROW(A29) -> 29 | D29: 7.6 | E29: 7.6 | F29: 18.3 | G29: 18.3 | H29: 18.3 | I29: 18.3 | J29: 18.3 | K29: 18.3 | L29: 11.4 | M29: 11.4 | N29: 11.4 | O29: 11.4 | P29: 11.4 | Q29: 11.4 | R29: 11.4 | S29: 11.4 | T29: 11.4 | U29: 15.9 | V29: 15.9 | W29: 15.9 | X29: 15.9 | Y29: 15.9 | Z29: 15.9 | AA29: 15.9 | AB29: 11.4 | AC29: 12.8 | AD29: 22.1 | AE29: 11 | AF29: 11 | AG29: 11 | AH29: 14.2 | AI29: 14.2
A30: 26 | B30: =ROW(A30) -> 30 | D30: 7.6 | E30: 7.6 | F30: 18.3 | G30: 18.3 | H30: 18.3 | I30: 18.3 | J30: 18.3 | K30: 18.3 | L30: 11.4 | M30: 11.4 | N30: 11.4 | O30: 11.4 | P30: 11.4 | Q30: 11.4 | R30: 11.4 | S30: 11.4 | T30: 11.4 | U30: 15.9 | V30: 15.9 | W30: 15.9 | X30: 15.9 | Y30: 15.9 | Z30: 15.9 | AA30: 15.9 | AB30: 11.4 | AC30: 12.8 | AD30: 22.1 | AE30: 11 | AF30: 11 | AG30: 11 | AH30: 14.2 | AI30: 14.2
A31: 27 | B31: =ROW(A31) -> 31 | D31: 7.6 | E31: 7.6 | F31: 18.3 | G31: 18.3 | H31: 18.3 | I31: 18.3 | J31: 18.3 | K31: 18.3 | L31: 11.4 | M31: 11.4 | N31: 11.4 | O31: 11.4 | P31: 11.4 | Q31: 11.4 | R31: 11.4 | S31: 11.4 | T31: 11.4 | U31: 15.9 | V31: 15.9 | W31: 15.9 | X31: 15.9 | Y31: 15.9 | Z31: 15.9 | AA31: 15.9 | AB31: 11.4 | AC31: 12.8 | AD31: 22.1 | AE31: 11 | AF31: 11 | AG31: 11 | AH31: 14.2 | AI31: 14.2
A32: 28 | B32: =ROW(A32) -> 32 | C32: 28 à 32 | D32: 7.3 | E32: 7.3 | F32: 17.1 | G32: 17.1 | H32: 17.1 | I32: 17.1 | J32: 17.1 | K32: 17.1 | L32: 11 | M32: 11 | N32: 11 | O32: 11 | P32: 11 | Q32: 11 | R32: 11 | S32: 11 | T32: 11 | U32: 16 | V32: 16 | W32: 16 | X32: 16 | Y32: 16 | Z32: 16 | AA32: 16 | AB32: 11.1 | AC32: 12.6 | AD32: 21.7 | AE32: 10.8 | AF32: 10.8 | AG32: 10.8 | AH32: 14.1 | AI32: 14.1
A33: 29 | B33: =ROW(A33) -> 33 | D33: 7.3 | E33: 7.3 | F33: 17.1 | G33: 17.1 | H33: 17.1 | I33: 17.1 | J33: 17.1 | K33: 17.1 | L33: 11 | M33: 11 | N33: 11 | O33: 11 | P33: 11 | Q33: 11 | R33: 11 | S33: 11 | T33: 11 | U33: 16 | V33: 16 | W33: 16 | X33: 16 | Y33: 16 | Z33: 16 | AA33: 16 | AB33: 11.1 | AC33: 12.6 | AD33: 21.7 | AE33: 10.8 | AF33: 10.8 | AG33: 10.8 | AH33: 14.1 | AI33: 14.1
A34: 30 | B34: =ROW(A34) -> 34 | D34: 7.3 | E34: 7.3 | F34: 17.1 | G34: 17.1 | H34: 17.1 | I34: 17.1 | J34: 17.1 | K34: 17.1 | L34: 11 | M34: 11 | N34: 11 | O34: 11 | P34: 11 | Q34: 11 | R34: 11 | S34: 11 | T34: 11 | U34: 16 | V34: 16 | W34: 16 | X34: 16 | Y34: 16 | Z34: 16 | AA34: 16 | AB34: 11.1 | AC34: 12.6 | AD34: 21.7 | AE34: 10.8 | AF34: 10.8 | AG34: 10.8 | AH34: 14.1 | AI34: 14.1
A35: 31 | B35: =ROW(A35) -> 35 | D35: 7.3 | E35: 7.3 | F35: 17.1 | G35: 17.1 | H35: 17.1 | I35: 17.1 | J35: 17.1 | K35: 17.1 | L35: 11 | M35: 11 | N35: 11 | O35: 11 | P35: 11 | Q35: 11 | R35: 11 | S35: 11 | T35: 11 | U35: 16 | V35: 16 | W35: 16 | X35: 16 | Y35: 16 | Z35: 16 | AA35: 16 | AB35: 11.1 | AC35: 12.6 | AD35: 21.7 | AE35: 10.8 | AF35: 10.8 | AG35: 10.8 | AH35: 14.1 | AI35: 14.1
A36: 32 | B36: =ROW(A36) -> 36 | D36: 7.3 | E36: 7.3 | F36: 17.1 | G36: 17.1 | H36: 17.1 | I36: 17.1 | J36: 17.1 | K36: 17.1 | L36: 11 | M36: 11 | N36: 11 | O36: 11 | P36: 11 | Q36: 11 | R36: 11 | S36: 11 | T36: 11 | U36: 16 | V36: 16 | W36: 16 | X36: 16 | Y36: 16 | Z36: 16 | AA36: 16 | AB36: 11.1 | AC36: 12.6 | AD36: 21.7 | AE36: 10.8 | AF36: 10.8 | AG36: 10.8 | AH36: 14.1 | AI36: 14.1
A37: 33 | B37: =ROW(A37) -> 37 | C37: 33 à 37 | D37: 7.1 | E37: 7.1 | F37: 16.3 | G37: 16.3 | H37: 16.3 | I37: 16.3 | J37: 16.3 | K37: 16.3 | L37: 10.6 | M37: 10.6 | N37: 10.6 | O37: 10.6 | P37: 10.6 | Q37: 10.6 | R37: 10.6 | S37: 10.6 | T37: 10.6 | U37: 15.7 | V37: 15.7 | W37: 15.7 | X37: 15.7 | Y37: 15.7 | Z37: 15.7 | AA37: 15.7 | AB37: 10.8 | AC37: 12.4 | AD37: 21.4 | AE37: 10.6 | AF37: 10.6 | AG37: 10.6 | AH37: 13.9 | AI37: 13.9
A38: 34 | B38: =ROW(A38) -> 38 | D38: 7.1 | E38: 7.1 | F38: 16.3 | G38: 16.3 | H38: 16.3 | I38: 16.3 | J38: 16.3 | K38: 16.3 | L38: 10.6 | M38: 10.6 | N38: 10.6 | O38: 10.6 | P38: 10.6 | Q38: 10.6 | R38: 10.6 | S38: 10.6 | T38: 10.6 | U38: 15.7 | V38: 15.7 | W38: 15.7 | X38: 15.7 | Y38: 15.7 | Z38: 15.7 | AA38: 15.7 | AB38: 10.8 | AC38: 12.4 | AD38: 21.4 | AE38: 10.6 | AF38: 10.6 | AG38: 10.6 | AH38: 13.9 | AI38: 13.9
A39: 35 | B39: =ROW(A39) -> 39 | D39: 7.1 | E39: 7.1 | F39: 16.3 | G39: 16.3 | H39: 16.3 | I39: 16.3 | J39: 16.3 | K39: 16.3 | L39: 10.6 | M39: 10.6 | N39: 10.6 | O39: 10.6 | P39: 10.6 | Q39: 10.6 | R39: 10.6 | S39: 10.6 | T39: 10.6 | U39: 15.7 | V39: 15.7 | W39: 15.7 | X39: 15.7 | Y39: 15.7 | Z39: 15.7 | AA39: 15.7 | AB39: 10.8 | AC39: 12.4 | AD39: 21.4 | AE39: 10.6 | AF39: 10.6 | AG39: 10.6 | AH39: 13.9 | AI39: 13.9
A40: 36 | B40: =ROW(A40) -> 40 | D40: 7.1 | E40: 7.1 | F40: 16.3 | G40: 16.3 | H40: 16.3 | I40: 16.3 | J40: 16.3 | K40: 16.3 | L40: 10.6 | M40: 10.6 | N40: 10.6 | O40: 10.6 | P40: 10.6 | Q40: 10.6 | R40: 10.6 | S40: 10.6 | T40: 10.6 | U40: 15.7 | V40: 15.7 | W40: 15.7 | X40: 15.7 | Y40: 15.7 | Z40: 15.7 | AA40: 15.7 | AB40: 10.8 | AC40: 12.4 | AD40: 21.4 | AE40: 10.6 | AF40: 10.6 | AG40: 10.6 | AH40: 13.9 | AI40: 13.9
A41: 37 | B41: =ROW(A41) -> 41 | D41: 7.1 | E41: 7.1 | F41: 16.3 | G41: 16.3 | H41: 16.3 | I41: 16.3 | J41: 16.3 | K41: 16.3 | L41: 10.6 | M41: 10.6 | N41: 10.6 | O41: 10.6 | P41: 10.6 | Q41: 10.6 | R41: 10.6 | S41: 10.6 | T41: 10.6 | U41: 15.7 | V41: 15.7 | W41: 15.7 | X41: 15.7 | Y41: 15.7 | Z41: 15.7 | AA41: 15.7 | AB41: 10.8 | AC41: 12.4 | AD41: 21.4 | AE41: 10.6 | AF41: 10.6 | AG41: 10.6 | AH41: 13.9 | AI41: 13.9
A42: 38 | B42: =ROW(A42) -> 42 | C42: 38 à 42 | D42: 6.9 | E42: 6.9 | F42: 15.6 | G42: 15.6 | H42: 15.6 | I42: 15.6 | J42: 15.6 | K42: 15.6 | L42: 10.2 | M42: 10.2 | N42: 10.2 | O42: 10.2 | P42: 10.2 | Q42: 10.2 | R42: 10.2 | S42: 10.2 | T42: 10.2 | U42: 15.3 | V42: 15.3 | W42: 15.3 | X42: 15.3 | Y42: 15.3 | Z42: 15.3 | AA42: 15.3 | AB42: 10.5 | AC42: 12.3 | AD42: 21.2 | AE42: 10.5 | AF42: 10.5 | AG42: 10.5 | AH42: 13.7 | AI42: 13.7
A43: 39 | B43: =ROW(A43) -> 43 | D43: 6.9 | E43: 6.9 | F43: 15.6 | G43: 15.6 | H43: 15.6 | I43: 15.6 | J43: 15.6 | K43: 15.6 | L43: 10.2 | M43: 10.2 | N43: 10.2 | O43: 10.2 | P43: 10.2 | Q43: 10.2 | R43: 10.2 | S43: 10.2 | T43: 10.2 | U43: 15.3 | V43: 15.3 | W43: 15.3 | X43: 15.3 | Y43: 15.3 | Z43: 15.3 | AA43: 15.3 | AB43: 10.5 | AC43: 12.3 | AD43: 21.2 | AE43: 10.5 | AF43: 10.5 | AG43: 10.5 | AH43: 13.7 | AI43: 13.7
A44: 40 | B44: =ROW(A44) -> 44 | D44: 6.9 | E44: 6.9 | F44: 15.6 | G44: 15.6 | H44: 15.6 | I44: 15.6 | J44: 15.6 | K44: 15.6 | L44: 10.2 | M44: 10.2 | N44: 10.2 | O44: 10.2 | P44: 10.2 | Q44: 10.2 | R44: 10.2 | S44: 10.2 | T44: 10.2 | U44: 15.3 | V44: 15.3 | W44: 15.3 | X44: 15.3 | Y44: 15.3 | Z44: 15.3 | AA44: 15.3 | AB44: 10.5 | AC44: 12.3 | AD44: 21.2 | AE44: 10.5 | AF44: 10.5 | AG44: 10.5 | AH44: 13.7 | AI44: 13.7
A45: 41 | B45: =ROW(A45) -> 45 | D45: 6.9 | E45: 6.9 | F45: 15.6 | G45: 15.6 | H45: 15.6 | I45: 15.6 | J45: 15.6 | K45: 15.6 | L45: 10.2 | M45: 10.2 | N45: 10.2 | O45: 10.2 | P45: 10.2 | Q45: 10.2 | R45: 10.2 | S45: 10.2 | T45: 10.2 | U45: 15.3 | V45: 15.3 | W45: 15.3 | X45: 15.3 | Y45: 15.3 | Z45: 15.3 | AA45: 15.3 | AB45: 10.5 | AC45: 12.3 | AD45: 21.2 | AE45: 10.5 | AF45: 10.5 | AG45: 10.5 | AH45: 13.7 | AI45: 13.7
A46: 42 | B46: =ROW(A46) -> 46 | D46: 6.9 | E46: 6.9 | F46: 15.6 | G46: 15.6 | H46: 15.6 | I46: 15.6 | J46: 15.6 | K46: 15.6 | L46: 10.2 | M46: 10.2 | N46: 10.2 | O46: 10.2 | P46: 10.2 | Q46: 10.2 | R46: 10.2 | S46: 10.2 | T46: 10.2 | U46: 15.3 | V46: 15.3 | W46: 15.3 | X46: 15.3 | Y46: 15.3 | Z46: 15.3 | AA46: 15.3 | AB46: 10.5 | AC46: 12.3 | AD46: 21.2 | AE46: 10.5 | AF46: 10.5 | AG46: 10.5 | AH46: 13.7 | AI46: 13.7
A47: 43 | B47: =ROW(A47) -> 47 | C47: 43 à 47 | D47: 6.7 | E47: 6.7 | F47: 15.1 | G47: 15.1 | H47: 15.1 | I47: 15.1 | J47: 15.1 | K47: 15.1 | L47: 9.8 | M47: 9.8 | N47: 9.8 | O47: 9.8 | P47: 9.8 | Q47: 9.8 | R47: 9.8 | S47: 9.8 | T47: 9.8 | U47: 14.8 | V47: 14.8 | W47: 14.8 | X47: 14.8 | Y47: 14.8 | Z47: 14.8 | AA47: 14.8 | AB47: 10.2 | AC47: 12.2 | AD47: 21 | AE47: 10.4 | AF47: 10.4 | AG47: 10.4 | AH47: 13.5 | AI47: 13.5
A48: 44 | B48: =ROW(A48) -> 48 | D48: 6.7 | E48: 6.7 | F48: 15.1 | G48: 15.1 | H48: 15.1 | I48: 15.1 | J48: 15.1 | K48: 15.1 | L48: 9.8 | M48: 9.8 | N48: 9.8 | O48: 9.8 | P48: 9.8 | Q48: 9.8 | R48: 9.8 | S48: 9.8 | T48: 9.8 | U48: 14.8 | V48: 14.8 | W48: 14.8 | X48: 14.8 | Y48: 14.8 | Z48: 14.8 | AA48: 14.8 | AB48: 10.2 | AC48: 12.2 | AD48: 21 | AE48: 10.4 | AF48: 10.4 | AG48: 10.4 | AH48: 13.5 | AI48: 13.5
A49: 45 | B49: =ROW(A49) -> 49 | D49: 6.7 | E49: 6.7 | F49: 15.1 | G49: 15.1 | H49: 15.1 | I49: 15.1 | J49: 15.1 | K49: 15.1 | L49: 9.8 | M49: 9.8 | N49: 9.8 | O49: 9.8 | P49: 9.8 | Q49: 9.8 | R49: 9.8 | S49: 9.8 | T49: 9.8 | U49: 14.8 | V49: 14.8 | W49: 14.8 | X49: 14.8 | Y49: 14.8 | Z49: 14.8 | AA49: 14.8 | AB49: 10.2 | AC49: 12.2 | AD49: 21 | AE49: 10.4 | AF49: 10.4 | AG49: 10.4 | AH49: 13.5 | AI49: 13.5
A50: 46 | B50: =ROW(A50) -> 50 | D50: 6.7 | E50: 6.7 | F50: 15.1 | G50: 15.1 | H50: 15.1 | I50: 15.1 | J50: 15.1 | K50: 15.1 | L50: 9.8 | M50: 9.8 | N50: 9.8 | O50: 9.8 | P50: 9.8 | Q50: 9.8 | R50: 9.8 | S50: 9.8 | T50: 9.8 | U50: 14.8 | V50: 14.8 | W50: 14.8 | X50: 14.8 | Y50: 14.8 | Z50: 14.8 | AA50: 14.8 | AB50: 10.2 | AC50: 12.2 | AD50: 21 | AE50: 10.4 | AF50: 10.4 | AG50: 10.4 | AH50: 13.5 | AI50: 13.5
A51: 47 | B51: =ROW(A51) -> 51 | D51: 6.7 | E51: 6.7 | F51: 15.1 | G51: 15.1 | H51: 15.1 | I51: 15.1 | J51: 15.1 | K51: 15.1 | L51: 9.8 | M51: 9.8 | N51: 9.8 | O51: 9.8 | P51: 9.8 | Q51: 9.8 | R51: 9.8 | S51: 9.8 | T51: 9.8 | U51: 14.8 | V51: 14.8 | W51: 14.8 | X51: 14.8 | Y51: 14.8 | Z51: 14.8 | AA51: 14.8 | AB51: 10.2 | AC51: 12.2 | AD51: 21 | AE51: 10.4 | AF51: 10.4 | AG51: 10.4 | AH51: 13.5 | AI51: 13.5
A52: 48 | B52: =ROW(A52) -> 52 | C52: 48 à 52 | D52: 6.6 | E52: 6.6 | F52: 14.7 | G52: 14.7 | H52: 14.7 | I52: 14.7 | J52: 14.7 | K52: 14.7 | L52: 9.4 | M52: 9.4 | N52: 9.4 | O52: 9.4 | P52: 9.4 | Q52: 9.4 | R52: 9.4 | S52: 9.4 | T52: 9.4 | U52: 14.2 | V52: 14.2 | W52: 14.2 | X52: 14.2 | Y52: 14.2 | Z52: 14.2 | AA52: 14.2 | AB52: 10 | AC52: 12.1 | AD52: 20.8 | AE52: 10.4 | AF52: 10.4 | AG52: 10.4 | AH52: 13.2 | AI52: 13.2
A53: 49 | B53: =ROW(A53) -> 53 | D53: 6.6 | E53: 6.6 | F53: 14.7 | G53: 14.7 | H53: 14.7 | I53: 14.7 | J53: 14.7 | K53: 14.7 | L53: 9.4 | M53: 9.4 | N53: 9.4 | O53: 9.4 | P53: 9.4 | Q53: 9.4 | R53: 9.4 | S53: 9.4 | T53: 9.4 | U53: 14.2 | V53: 14.2 | W53: 14.2 | X53: 14.2 | Y53: 14.2 | Z53: 14.2 | AA53: 14.2 | AB53: 10 | AC53: 12.1 | AD53: 20.8 | AE53: 10.4 | AF53: 10.4 | AG53: 10.4 | AH53: 13.2 | AI53: 13.2
A54: 50 | B54: =ROW(A54) -> 54 | D54: 6.6 | E54: 6.6 | F54: 14.7 | G54: 14.7 | H54: 14.7 | I54: 14.7 | J54: 14.7 | K54: 14.7 | L54: 9.4 | M54: 9.4 | N54: 9.4 | O54: 9.4 | P54: 9.4 | Q54: 9.4 | R54: 9.4 | S54: 9.4 | T54: 9.4 | U54: 14.2 | V54: 14.2 | W54: 14.2 | X54: 14.2 | Y54: 14.2 | Z54: 14.2 | AA54: 14.2 | AB54: 10 | AC54: 12.1 | AD54: 20.8 | AE54: 10.4 | AF54: 10.4 | AG54: 10.4 | AH54: 13.2 | AI54: 13.2
A55: 51 | B55: =ROW(A55) -> 55 | D55: 6.6 | E55: 6.6 | F55: 14.7 | G55: 14.7 | H55: 14.7 | I55: 14.7 | J55: 14.7 | K55: 14.7 | L55: 9.4 | M55: 9.4 | N55: 9.4 | O55: 9.4 | P55: 9.4 | Q55: 9.4 | R55: 9.4 | S55: 9.4 | T55: 9.4 | U55: 14.2 | V55: 14.2 | W55: 14.2 | X55: 14.2 | Y55: 14.2 | Z55: 14.2 | AA55: 14.2 | AB55: 10 | AC55: 12.1 | AD55: 20.8 | AE55: 10.4 | AF55: 10.4 | AG55: 10.4 | AH55: 13.2 | AI55: 13.2
A56: 52 | B56: =ROW(A56) -> 56 | D56: 6.6 | E56: 6.6 | F56: 14.7 | G56: 14.7 | H56: 14.7 | I56: 14.7 | J56: 14.7 | K56: 14.7 | L56: 9.4 | M56: 9.4 | N56: 9.4 | O56: 9.4 | P56: 9.4 | Q56: 9.4 | R56: 9.4 | S56: 9.4 | T56: 9.4 | U56: 14.2 | V56: 14.2 | W56: 14.2 | X56: 14.2 | Y56: 14.2 | Z56: 14.2 | AA56: 14.2 | AB56: 10 | AC56: 12.1 | AD56: 20.8 | AE56: 10.4 | AF56: 10.4 | AG56: 10.4 | AH56: 13.2 | AI56: 13.2
A57: 53 | B57: =ROW(A57) -> 57 | C57: 53 à 57 | D57: 6.5 | E57: 6.5 | F57: 14.4 | G57: 14.4 | H57: 14.4 | I57: 14.4 | J57: 14.4 | K57: 14.4 | L57: 8.9 | M57: 8.9 | N57: 8.9 | O57: 8.9 | P57: 8.9 | Q57: 8.9 | R57: 8.9 | S57: 8.9 | T57: 8.9 | U57: 13.5 | V57: 13.5 | W57: 13.5 | X57: 13.5 | Y57: 13.5 | Z57: 13.5 | AA57: 13.5 | AB57: 9.7 | AC57: 12.1 | AD57: 20.7 | AE57: 10.3 | AF57: 10.3 | AG57: 10.3 | AH57: 13 | AI57: 13
A58: 54 | B58: =ROW(A58) -> 58 | D58: 6.5 | E58: 6.5 | F58: 14.4 | G58: 14.4 | H58: 14.4 | I58: 14.4 | J58: 14.4 | K58: 14.4 | L58: 8.9 | M58: 8.9 | N58: 8.9 | O58: 8.9 | P58: 8.9 | Q58: 8.9 | R58: 8.9 | S58: 8.9 | T58: 8.9 | U58: 13.5 | V58: 13.5 | W58: 13.5 | X58: 13.5 | Y58: 13.5 | Z58: 13.5 | AA58: 13.5 | AB58: 9.7 | AC58: 12.1 | AD58: 20.7 | AE58: 10.3 | AF58: 10.3 | AG58: 10.3 | AH58: 13 | AI58: 13
A59: 55 | B59: =ROW(A59) -> 59 | D59: 6.5 | E59: 6.5 | F59: 14.4 | G59: 14.4 | H59: 14.4 | I59: 14.4 | J59: 14.4 | K59: 14.4 | L59: 8.9 | M59: 8.9 | N59: 8.9 | O59: 8.9 | P59: 8.9 | Q59: 8.9 | R59: 8.9 | S59: 8.9 | T59: 8.9 | U59: 13.5 | V59: 13.5 | W59: 13.5 | X59: 13.5 | Y59: 13.5 | Z59: 13.5 | AA59: 13.5 | AB59: 9.7 | AC59: 12.1 | AD59: 20.7 | AE59: 10.3 | AF59: 10.3 | AG59: 10.3 | AH59: 13 | AI59: 13
A60: 56 | B60: =ROW(A60) -> 60 | D60: 6.5 | E60: 6.5 | F60: 14.4 | G60: 14.4 | H60: 14.4 | I60: 14.4 | J60: 14.4 | K60: 14.4 | L60: 8.9 | M60: 8.9 | N60: 8.9 | O60: 8.9 | P60: 8.9 | Q60: 8.9 | R60: 8.9 | S60: 8.9 | T60: 8.9 | U60: 13.5 | V60: 13.5 | W60: 13.5 | X60: 13.5 | Y60: 13.5 | Z60: 13.5 | AA60: 13.5 | AB60: 9.7 | AC60: 12.1 | AD60: 20.7 | AE60: 10.3 | AF60: 10.3 | AG60: 10.3 | AH60: 13 | AI60: 13
A61: 57 | B61: =ROW(A61) -> 61 | D61: 6.5 | E61: 6.5 | F61: 14.4 | G61: 14.4 | H61: 14.4 | I61: 14.4 | J61: 14.4 | K61: 14.4 | L61: 8.9 | M61: 8.9 | N61: 8.9 | O61: 8.9 | P61: 8.9 | Q61: 8.9 | R61: 8.9 | S61: 8.9 | T61: 8.9 | U61: 13.5 | V61: 13.5 | W61: 13.5 | X61: 13.5 | Y61: 13.5 | Z61: 13.5 | AA61: 13.5 | AB61: 9.7 | AC61: 12.1 | AD61: 20.7 | AE61: 10.3 | AF61: 10.3 | AG61: 10.3 | AH61: 13 | AI61: 13
A62: 58 | B62: =ROW(A62) -> 62 | C62: 58 à 65 | D62: 6.5 | E62: 6.5 | F62: 14.1 | G62: 14.1 | H62: 14.1 | I62: 14.1 | J62: 14.1 | K62: 14.1 | L62: 8.5 | M62: 8.5 | N62: 8.5 | O62: 8.5 | P62: 8.5 | Q62: 8.5 | R62: 8.5 | S62: 8.5 | T62: 8.5 | U62: 12.8 | V62: 12.8 | W62: 12.8 | X62: 12.8 | Y62: 12.8 | Z62: 12.8 | AA62: 12.8 | AB62: 9.5 | AC62: 12 | AD62: 20.6 | AE62: 10.3 | AF62: 10.3 | AG62: 10.3 | AH62: 12.7 | AI62: 12.7
A63: 59 | B63: =ROW(A63) -> 63 | D63: 6.5 | E63: 6.5 | F63: 14.1 | G63: 14.1 | H63: 14.1 | I63: 14.1 | J63: 14.1 | K63: 14.1 | L63: 8.5 | M63: 8.5 | N63: 8.5 | O63: 8.5 | P63: 8.5 | Q63: 8.5 | R63: 8.5 | S63: 8.5 | T63: 8.5 | U63: 12.8 | V63: 12.8 | W63: 12.8 | X63: 12.8 | Y63: 12.8 | Z63: 12.8 | AA63: 12.8 | AB63: 9.5 | AC63: 12 | AD63: 20.6 | AE63: 10.3 | AF63: 10.3 | AG63: 10.3 | AH63: 12.7 | AI63: 12.7
A64: 60 | B64: =ROW(A64) -> 64 | D64: 6.5 | E64: 6.5 | F64: 14.1 | G64: 14.1 | H64: 14.1 | I64: 14.1 | J64: 14.1 | K64: 14.1 | L64: 8.5 | M64: 8.5 | N64: 8.5 | O64: 8.5 | P64: 8.5 | Q64: 8.5 | R64: 8.5 | S64: 8.5 | T64: 8.5 | U64: 12.8 | V64: 12.8 | W64: 12.8 | X64: 12.8 | Y64: 12.8 | Z64: 12.8 | AA64: 12.8 | AB64: 9.5 | AC64: 12 | AD64: 20.6 | AE64: 10.3 | AF64: 10.3 | AG64: 10.3 | AH64: 12.7 | AI64: 12.7
A65: 61 | B65: =ROW(A65) -> 65 | D65: 6.5 | E65: 6.5 | F65: 14.1 | G65: 14.1 | H65: 14.1 | I65: 14.1 | J65: 14.1 | K65: 14.1 | L65: 8.5 | M65: 8.5 | N65: 8.5 | O65: 8.5 | P65: 8.5 | Q65: 8.5 | R65: 8.5 | S65: 8.5 | T65: 8.5 | U65: 12.8 | V65: 12.8 | W65: 12.8 | X65: 12.8 | Y65: 12.8 | Z65: 12.8 | AA65: 12.8 | AB65: 9.5 | AC65: 12 | AD65: 20.6 | AE65: 10.3 | AF65: 10.3 | AG65: 10.3 | AH65: 12.7 | AI65: 12.7
A66: 62 | B66: =ROW(A66) -> 66 | D66: 6.5 | E66: 6.5 | F66: 14.1 | G66: 14.1 | H66: 14.1 | I66: 14.1 | J66: 14.1 | K66: 14.1 | L66: 8.5 | M66: 8.5 | N66: 8.5 | O66: 8.5 | P66: 8.5 | Q66: 8.5 | R66: 8.5 | S66: 8.5 | T66: 8.5 | U66: 12.8 | V66: 12.8 | W66: 12.8 | X66: 12.8 | Y66: 12.8 | Z66: 12.8 | AA66: 12.8 | AB66: 9.5 | AC66: 12 | AD66: 20.6 | AE66: 10.3 | AF66: 10.3 | AG66: 10.3 | AH66: 12.7 | AI66: 12.7
A67: 63 | B67: =ROW(A67) -> 67 | D67: 6.5 | E67: 6.5 | F67: 14.1 | G67: 14.1 | H67: 14.1 | I67: 14.1 | J67: 14.1 | K67: 14.1 | L67: 8.5 | M67: 8.5 | N67: 8.5 | O67: 8.5 | P67: 8.5 | Q67: 8.5 | R67: 8.5 | S67: 8.5 | T67: 8.5 | U67: 12.8 | V67: 12.8 | W67: 12.8 | X67: 12.8 | Y67: 12.8 | Z67: 12.8 | AA67: 12.8 | AB67: 9.5 | AC67: 12 | AD67: 20.6 | AE67: 10.3 | AF67: 10.3 | AG67: 10.3 | AH67: 12.7 | AI67: 12.7
A68: 64 | B68: =ROW(A68) -> 68 | D68: 6.5 | E68: 6.5 | F68: 14.1 | G68: 14.1 | H68: 14.1 | I68: 14.1 | J68: 14.1 | K68: 14.1 | L68: 8.5 | M68: 8.5 | N68: 8.5 | O68: 8.5 | P68: 8.5 | Q68: 8.5 | R68: 8.5 | S68: 8.5 | T68: 8.5 | U68: 12.8 | V68: 12.8 | W68: 12.8 | X68: 12.8 | Y68: 12.8 | Z68: 12.8 | AA68: 12.8 | AB68: 9.5 | AC68: 12 | AD68: 20.6 | AE68: 10.3 | AF68: 10.3 | AG68: 10.3 | AH68: 12.7 | AI68: 12.7
A69: 65 | B69: =ROW(A69) -> 69 | D69: 6.5 | E69: 6.5 | F69: 14.1 | G69: 14.1 | H69: 14.1 | I69: 14.1 | J69: 14.1 | K69: 14.1 | L69: 8.5 | M69: 8.5 | N69: 8.5 | O69: 8.5 | P69: 8.5 | Q69: 8.5 | R69: 8.5 | S69: 8.5 | T69: 8.5 | U69: 12.8 | V69: 12.8 | W69: 12.8 | X69: 12.8 | Y69: 12.8 | Z69: 12.8 | AA69: 12.8 | AB69: 9.5 | AC69: 12 | AD69: 20.6 | AE69: 10.3 | AF69: 10.3 | AG69: 10.3 | AH69: 12.7 | AI69: 12.7
A70: 66 | B70: =ROW(A70) -> 70 | C70: 66 à 75 | D70: 6.3 | E70: 6.3 | F70: 13.7 | G70: 13.7 | H70: 13.7 | I70: 13.7 | J70: 13.7 | K70: 13.7 | L70: 7.6 | M70: 7.6 | N70: 7.6 | O70: 7.6 | P70: 7.6 | Q70: 7.6 | R70: 7.6 | S70: 7.6 | T70: 7.6 | U70: 11.3 | V70: 11.3 | W70: 11.3 | X70: 11.3 | Y70: 11.3 | Z70: 11.3 | AA70: 11.3 | AB70: 9 | AC70: 12 | AD70: 20.5 | AE70: 10.2 | AF70: 10.2 | AG70: 10.2 | AH70: 12.1 | AI70: 12.1
A71: 67 | B71: =ROW(A71) -> 71 | D71: 6.3 | E71: 6.3 | F71: 13.7 | G71: 13.7 | H71: 13.7 | I71: 13.7 | J71: 13.7 | K71: 13.7 | L71: 7.6 | M71: 7.6 | N71: 7.6 | O71: 7.6 | P71: 7.6 | Q71: 7.6 | R71: 7.6 | S71: 7.6 | T71: 7.6 | U71: 11.3 | V71: 11.3 | W71: 11.3 | X71: 11.3 | Y71: 11.3 | Z71: 11.3 | AA71: 11.3 | AB71: 9 | AC71: 12 | AD71: 20.5 | AE71: 10.2 | AF71: 10.2 | AG71: 10.2 | AH71: 12.1 | AI71: 12.1
A72: 68 | B72: =ROW(A72) -> 72 | D72: 6.3 | E72: 6.3 | F72: 13.7 | G72: 13.7 | H72: 13.7 | I72: 13.7 | J72: 13.7 | K72: 13.7 | L72: 7.6 | M72: 7.6 | N72: 7.6 | O72: 7.6 | P72: 7.6 | Q72: 7.6 | R72: 7.6 | S72: 7.6 | T72: 7.6 | U72: 11.3 | V72: 11.3 | W72: 11.3 | X72: 11.3 | Y72: 11.3 | Z72: 11.3 | AA72: 11.3 | AB72: 9 | AC72: 12 | AD72: 20.5 | AE72: 10.2 | AF72: 10.2 | AG72: 10.2 | AH72: 12.1 | AI72: 12.1
A73: 69 | B73: =ROW(A73) -> 73 | D73: 6.3 | E73: 6.3 | F73: 13.7 | G73: 13.7 | H73: 13.7 | I73: 13.7 | J73: 13.7 | K73: 13.7 | L73: 7.6 | M73: 7.6 | N73: 7.6 | O73: 7.6 | P73: 7.6 | Q73: 7.6 | R73: 7.6 | S73: 7.6 | T73: 7.6 | U73: 11.3 | V73: 11.3 | W73: 11.3 | X73: 11.3 | Y73: 11.3 | Z73: 11.3 | AA73: 11.3 | AB73: 9 | AC73: 12 | AD73: 20.5 | AE73: 10.2 | AF73: 10.2 | AG73: 10.2 | AH73: 12.1 | AI73: 12.1
A74: 70 | B74: =ROW(A74) -> 74 | D74: 6.3 | E74: 6.3 | F74: 13.7 | G74: 13.7 | H74: 13.7 | I74: 13.7 | J74: 13.7 | K74: 13.7 | L74: 7.6 | M74: 7.6 | N74: 7.6 | O74: 7.6 | P74: 7.6 | Q74: 7.6 | R74: 7.6 | S74: 7.6 | T74: 7.6 | U74: 11.3 | V74: 11.3 | W74: 11.3 | X74: 11.3 | Y74: 11.3 | Z74: 11.3 | AA74: 11.3 | AB74: 9 | AC74: 12 | AD74: 20.5 | AE74: 10.2 | AF74: 10.2 | AG74: 10.2 | AH74: 12.1 | AI74: 12.1
A75: 71 | B75: =ROW(A75) -> 75 | D75: 6.3 | E75: 6.3 | F75: 13.7 | G75: 13.7 | H75: 13.7 | I75: 13.7 | J75: 13.7 | K75: 13.7 | L75: 7.6 | M75: 7.6 | N75: 7.6 | O75: 7.6 | P75: 7.6 | Q75: 7.6 | R75: 7.6 | S75: 7.6 | T75: 7.6 | U75: 11.3 | V75: 11.3 | W75: 11.3 | X75: 11.3 | Y75: 11.3 | Z75: 11.3 | AA75: 11.3 | AB75: 9 | AC75: 12 | AD75: 20.5 | AE75: 10.2 | AF75: 10.2 | AG75: 10.2 | AH75: 12.1 | AI75: 12.1
A76: 72 | B76: =ROW(A76) -> 76 | D76: 6.3 | E76: 6.3 | F76: 13.7 | G76: 13.7 | H76: 13.7 | I76: 13.7 | J76: 13.7 | K76: 13.7 | L76: 7.6 | M76: 7.6 | N76: 7.6 | O76: 7.6 | P76: 7.6 | Q76: 7.6 | R76: 7.6 | S76: 7.6 | T76: 7.6 | U76: 11.3 | V76: 11.3 | W76: 11.3 | X76: 11.3 | Y76: 11.3 | Z76: 11.3 | AA76: 11.3 | AB76: 9 | AC76: 12 | AD76: 20.5 | AE76: 10.2 | AF76: 10.2 | AG76: 10.2 | AH76: 12.1 | AI76: 12.1
A77: 73 | B77: =ROW(A77) -> 77 | D77: 6.3 | E77: 6.3 | F77: 13.7 | G77: 13.7 | H77: 13.7 | I77: 13.7 | J77: 13.7 | K77: 13.7 | L77: 7.6 | M77: 7.6 | N77: 7.6 | O77: 7.6 | P77: 7.6 | Q77: 7.6 | R77: 7.6 | S77: 7.6 | T77: 7.6 | U77: 11.3 | V77: 11.3 | W77: 11.3 | X77: 11.3 | Y77: 11.3 | Z77: 11.3 | AA77: 11.3 | AB77: 9 | AC77: 12 | AD77: 20.5 | AE77: 10.2 | AF77: 10.2 | AG77: 10.2 | AH77: 12.1 | AI77: 12.1
A78: 74 | B78: =ROW(A78) -> 78 | D78: 6.3 | E78: 6.3 | F78: 13.7 | G78: 13.7 | H78: 13.7 | I78: 13.7 | J78: 13.7 | K78: 13.7 | L78: 7.6 | M78: 7.6 | N78: 7.6 | O78: 7.6 | P78: 7.6 | Q78: 7.6 | R78: 7.6 | S78: 7.6 | T78: 7.6 | U78: 11.3 | V78: 11.3 | W78: 11.3 | X78: 11.3 | Y78: 11.3 | Z78: 11.3 | AA78: 11.3 | AB78: 9 | AC78: 12 | AD78: 20.5 | AE78: 10.2 | AF78: 10.2 | AG78: 10.2 | AH78: 12.1 | AI78: 12.1
A79: 75 | B79: =ROW(A79) -> 79 | D79: 6.3 | E79: 6.3 | F79: 13.7 | G79: 13.7 | H79: 13.7 | I79: 13.7 | J79: 13.7 | K79: 13.7 | L79: 7.6 | M79: 7.6 | N79: 7.6 | O79: 7.6 | P79: 7.6 | Q79: 7.6 | R79: 7.6 | S79: 7.6 | T79: 7.6 | U79: 11.3 | V79: 11.3 | W79: 11.3 | X79: 11.3 | Y79: 11.3 | Z79: 11.3 | AA79: 11.3 | AB79: 9 | AC79: 12 | AD79: 20.5 | AE79: 10.2 | AF79: 10.2 | AG79: 10.2 | AH79: 12.1 | AI79: 12.1
A80: 76 | B80: =ROW(A80) -> 80 | C80: 76 à 85 | D80: 6.3 | E80: 6.3 | F80: 13.3 | G80: 13.3 | H80: 13.3 | I80: 13.3 | J80: 13.3 | K80: 13.3 | L80: 6.7 | M80: 6.7 | N80: 6.7 | O80: 6.7 | P80: 6.7 | Q80: 6.7 | R80: 6.7 | S80: 6.7 | T80: 6.7 | U80: 9.6 | V80: 9.6 | W80: 9.6 | X80: 9.6 | Y80: 9.6 | Z80: 9.6 | AA80: 9.6 | AB80: 8.6 | AC80: 11.9 | AD80: 20.4 | AE80: 10.2 | AF80: 10.2 | AG80: 10.2 | AH80: 11.4 | AI80: 11.4
A81: 77 | B81: =ROW(A81) -> 81 | D81: 6.3 | E81: 6.3 | F81: 13.3 | G81: 13.3 | H81: 13.3 | I81: 13.3 | J81: 13.3 | K81: 13.3 | L81: 6.7 | M81: 6.7 | N81: 6.7 | O81: 6.7 | P81: 6.7 | Q81: 6.7 | R81: 6.7 | S81: 6.7 | T81: 6.7 | U81: 9.6 | V81: 9.6 | W81: 9.6 | X81: 9.6 | Y81: 9.6 | Z81: 9.6 | AA81: 9.6 | AB81: 8.6 | AC81: 11.9 | AD81: 20.4 | AE81: 10.2 | AF81: 10.2 | AG81: 10.2 | AH81: 11.4 | AI81: 11.4
A82: 78 | B82: =ROW(A82) -> 82 | D82: 6.3 | E82: 6.3 | F82: 13.3 | G82: 13.3 | H82: 13.3 | I82: 13.3 | J82: 13.3 | K82: 13.3 | L82: 6.7 | M82: 6.7 | N82: 6.7 | O82: 6.7 | P82: 6.7 | Q82: 6.7 | R82: 6.7 | S82: 6.7 | T82: 6.7 | U82: 9.6 | V82: 9.6 | W82: 9.6 | X82: 9.6 | Y82: 9.6 | Z82: 9.6 | AA82: 9.6 | AB82: 8.6 | AC82: 11.9 | AD82: 20.4 | AE82: 10.2 | AF82: 10.2 | AG82: 10.2 | AH82: 11.4 | AI82: 11.4
A83: 79 | B83: =ROW(A83) -> 83 | D83: 6.3 | E83: 6.3 | F83: 13.3 | G83: 13.3 | H83: 13.3 | I83: 13.3 | J83: 13.3 | K83: 13.3 | L83: 6.7 | M83: 6.7 | N83: 6.7 | O83: 6.7 | P83: 6.7 | Q83: 6.7 | R83: 6.7 | S83: 6.7 | T83: 6.7 | U83: 9.6 | V83: 9.6 | W83: 9.6 | X83: 9.6 | Y83: 9.6 | Z83: 9.6 | AA83: 9.6 | AB83: 8.6 | AC83: 11.9 | AD83: 20.4 | AE83: 10.2 | AF83: 10.2 | AG83: 10.2 | AH83: 11.4 | AI83: 11.4
A84: 80 | B84: =ROW(A84) -> 84 | D84: 6.3 | E84: 6.3 | F84: 13.3 | G84: 13.3 | H84: 13.3 | I84: 13.3 | J84: 13.3 | K84: 13.3 | L84: 6.7 | M84: 6.7 | N84: 6.7 | O84: 6.7 | P84: 6.7 | Q84: 6.7 | R84: 6.7 | S84: 6.7 | T84: 6.7 | U84: 9.6 | V84: 9.6 | W84: 9.6 | X84: 9.6 | Y84: 9.6 | Z84: 9.6 | AA84: 9.6 | AB84: 8.6 | AC84: 11.9 | AD84: 20.4 | AE84: 10.2 | AF84: 10.2 | AG84: 10.2 | AH84: 11.4 | AI84: 11.4
A85: 81 | B85: =ROW(A85) -> 85 | D85: 6.3 | E85: 6.3 | F85: 13.3 | G85: 13.3 | H85: 13.3 | I85: 13.3 | J85: 13.3 | K85: 13.3 | L85: 6.7 | M85: 6.7 | N85: 6.7 | O85: 6.7 | P85: 6.7 | Q85: 6.7 | R85: 6.7 | S85: 6.7 | T85: 6.7 | U85: 9.6 | V85: 9.6 | W85: 9.6 | X85: 9.6 | Y85: 9.6 | Z85: 9.6 | AA85: 9.6 | AB85: 8.6 | AC85: 11.9 | AD85: 20.4 | AE85: 10.2 | AF85: 10.2 | AG85: 10.2 | AH85: 11.4 | AI85: 11.4
A86: 82 | B86: =ROW(A86) -> 86 | D86: 6.3 | E86: 6.3 | F86: 13.3 | G86: 13.3 | H86: 13.3 | I86: 13.3 | J86: 13.3 | K86: 13.3 | L86: 6.7 | M86: 6.7 | N86: 6.7 | O86: 6.7 | P86: 6.7 | Q86: 6.7 | R86: 6.7 | S86: 6.7 | T86: 6.7 | U86: 9.6 | V86: 9.6 | W86: 9.6 | X86: 9.6 | Y86: 9.6 | Z86: 9.6 | AA86: 9.6 | AB86: 8.6 | AC86: 11.9 | AD86: 20.4 | AE86: 10.2 | AF86: 10.2 | AG86: 10.2 | AH86: 11.4 | AI86: 11.4
A87: 83 | B87: =ROW(A87) -> 87 | D87: 6.3 | E87: 6.3 | F87: 13.3 | G87: 13.3 | H87: 13.3 | I87: 13.3 | J87: 13.3 | K87: 13.3 | L87: 6.7 | M87: 6.7 | N87: 6.7 | O87: 6.7 | P87: 6.7 | Q87: 6.7 | R87: 6.7 | S87: 6.7 | T87: 6.7 | U87: 9.6 | V87: 9.6 | W87: 9.6 | X87: 9.6 | Y87: 9.6 | Z87: 9.6 | AA87: 9.6 | AB87: 8.6 | AC87: 11.9 | AD87: 20.4 | AE87: 10.2 | AF87: 10.2 | AG87: 10.2 | AH87: 11.4 | AI87: 11.4
A88: 84 | B88: =ROW(A88) -> 88 | D88: 6.3 | E88: 6.3 | F88: 13.3 | G88: 13.3 | H88: 13.3 | I88: 13.3 | J88: 13.3 | K88: 13.3 | L88: 6.7 | M88: 6.7 | N88: 6.7 | O88: 6.7 | P88: 6.7 | Q88: 6.7 | R88: 6.7 | S88: 6.7 | T88: 6.7 | U88: 9.6 | V88: 9.6 | W88: 9.6 | X88: 9.6 | Y88: 9.6 | Z88: 9.6 | AA88: 9.6 | AB88: 8.6 | AC88: 11.9 | AD88: 20.4 | AE88: 10.2 | AF88: 10.2 | AG88: 10.2 | AH88: 11.4 | AI88: 11.4
A89: 85 | B89: =ROW(A89) -> 89 | D89: 6.3 | E89: 6.3 | F89: 13.3 | G89: 13.3 | H89: 13.3 | I89: 13.3 | J89: 13.3 | K89: 13.3 | L89: 6.7 | M89: 6.7 | N89: 6.7 | O89: 6.7 | P89: 6.7 | Q89: 6.7 | R89: 6.7 | S89: 6.7 | T89: 6.7 | U89: 9.6 | V89: 9.6 | W89: 9.6 | X89: 9.6 | Y89: 9.6 | Z89: 9.6 | AA89: 9.6 | AB89: 8.6 | AC89: 11.9 | AD89: 20.4 | AE89: 10.2 | AF89: 10.2 | AG89: 10.2 | AH89: 11.4 | AI89: 11.4
A90: 86 | B90: =ROW(A90) -> 90 | C90: 86 à 95 | D90: 6.2 | E90: 6.2 | F90: 13.1 | G90: 13.1 | H90: 13.1 | I90: 13.1 | J90: 13.1 | K90: 13.1 | L90: 5.8 | M90: 5.8 | N90: 5.8 | O90: 5.8 | P90: 5.8 | Q90: 5.8 | R90: 5.8 | S90: 5.8 | T90: 5.8 | U90: 7.9 | V90: 7.9 | W90: 7.9 | X90: 7.9 | Y90: 7.9 | Z90: 7.9 | AA90: 7.9 | AB90: 8.1 | AC90: 11.9 | AD90: 20.3 | AE90: 10.1 | AF90: 10.1 | AG90: 10.1 | AH90: 10.8 | AI90: 10.8
A91: 87 | B91: =ROW(A91) -> 91 | D91: 6.2 | E91: 6.2 | F91: 13.1 | G91: 13.1 | H91: 13.1 | I91: 13.1 | J91: 13.1 | K91: 13.1 | L91: 5.8 | M91: 5.8 | N91: 5.8 | O91: 5.8 | P91: 5.8 | Q91: 5.8 | R91: 5.8 | S91: 5.8 | T91: 5.8 | U91: 7.9 | V91: 7.9 | W91: 7.9 | X91: 7.9 | Y91: 7.9 | Z91: 7.9 | AA91: 7.9 | AB91: 8.1 | AC91: 11.9 | AD91: 20.3 | AE91: 10.1 | AF91: 10.1 | AG91: 10.1 | AH91: 10.8 | AI91: 10.8
A92: 88 | B92: =ROW(A92) -> 92 | D92: 6.2 | E92: 6.2 | F92: 13.1 | G92: 13.1 | H92: 13.1 | I92: 13.1 | J92: 13.1 | K92: 13.1 | L92: 5.8 | M92: 5.8 | N92: 5.8 | O92: 5.8 | P92: 5.8 | Q92: 5.8 | R92: 5.8 | S92: 5.8 | T92: 5.8 | U92: 7.9 | V92: 7.9 | W92: 7.9 | X92: 7.9 | Y92: 7.9 | Z92: 7.9 | AA92: 7.9 | AB92: 8.1 | AC92: 11.9 | AD92: 20.3 | AE92: 10.1 | AF92: 10.1 | AG92: 10.1 | AH92: 10.8 | AI92: 10.8
A93: 89 | B93: =ROW(A93) -> 93 | D93: 6.2 | E93: 6.2 | F93: 13.1 | G93: 13.1 | H93: 13.1 | I93: 13.1 | J93: 13.1 | K93: 13.1 | L93: 5.8 | M93: 5.8 | N93: 5.8 | O93: 5.8 | P93: 5.8 | Q93: 5.8 | R93: 5.8 | S93: 5.8 | T93: 5.8 | U93: 7.9 | V93: 7.9 | W93: 7.9 | X93: 7.9 | Y93: 7.9 | Z93: 7.9 | AA93: 7.9 | AB93: 8.1 | AC93: 11.9 | AD93: 20.3 | AE93: 10.1 | AF93: 10.1 | AG93: 10.1 | AH93: 10.8 | AI93: 10.8
A94: 90 | B94: =ROW(A94) -> 94 | D94: 6.2 | E94: 6.2 | F94: 13.1 | G94: 13.1 | H94: 13.1 | I94: 13.1 | J94: 13.1 | K94: 13.1 | L94: 5.8 | M94: 5.8 | N94: 5.8 | O94: 5.8 | P94: 5.8 | Q94: 5.8 | R94: 5.8 | S94: 5.8 | T94: 5.8 | U94: 7.9 | V94: 7.9 | W94: 7.9 | X94: 7.9 | Y94: 7.9 | Z94: 7.9 | AA94: 7.9 | AB94: 8.1 | AC94: 11.9 | AD94: 20.3 | AE94: 10.1 | AF94: 10.1 | AG94: 10.1 | AH94: 10.8 | AI94: 10.8
A95: 91 | B95: =ROW(A95) -> 95 | D95: 6.2 | E95: 6.2 | F95: 13.1 | G95: 13.1 | H95: 13.1 | I95: 13.1 | J95: 13.1 | K95: 13.1 | L95: 5.8 | M95: 5.8 | N95: 5.8 | O95: 5.8 | P95: 5.8 | Q95: 5.8 | R95: 5.8 | S95: 5.8 | T95: 5.8 | U95: 7.9 | V95: 7.9 | W95: 7.9 | X95: 7.9 | Y95: 7.9 | Z95: 7.9 | AA95: 7.9 | AB95: 8.1 | AC95: 11.9 | AD95: 20.3 | AE95: 10.1 | AF95: 10.1 | AG95: 10.1 | AH95: 10.8 | AI95: 10.8
A96: 92 | B96: =ROW(A96) -> 96 | D96: 6.2 | E96: 6.2 | F96: 13.1 | G96: 13.1 | H96: 13.1 | I96: 13.1 | J96: 13.1 | K96: 13.1 | L96: 5.8 | M96: 5.8 | N96: 5.8 | O96: 5.8 | P96: 5.8 | Q96: 5.8 | R96: 5.8 | S96: 5.8 | T96: 5.8 | U96: 7.9 | V96: 7.9 | W96: 7.9 | X96: 7.9 | Y96: 7.9 | Z96: 7.9 | AA96: 7.9 | AB96: 8.1 | AC96: 11.9 | AD96: 20.3 | AE96: 10.1 | AF96: 10.1 | AG96: 10.1 | AH96: 10.8 | AI96: 10.8
A97: 93 | B97: =ROW(A97) -> 97 | D97: 6.2 | E97: 6.2 | F97: 13.1 | G97: 13.1 | H97: 13.1 | I97: 13.1 | J97: 13.1 | K97: 13.1 | L97: 5.8 | M97: 5.8 | N97: 5.8 | O97: 5.8 | P97: 5.8 | Q97: 5.8 | R97: 5.8 | S97: 5.8 | T97: 5.8 | U97: 7.9 | V97: 7.9 | W97: 7.9 | X97: 7.9 | Y97: 7.9 | Z97: 7.9 | AA97: 7.9 | AB97: 8.1 | AC97: 11.9 | AD97: 20.3 | AE97: 10.1 | AF97: 10.1 | AG97: 10.1 | AH97: 10.8 | AI97: 10.8
A98: 94 | B98: =ROW(A98) -> 98 | D98: 6.2 | E98: 6.2 | F98: 13.1 | G98: 13.1 | H98: 13.1 | I98: 13.1 | J98: 13.1 | K98: 13.1 | L98: 5.8 | M98: 5.8 | N98: 5.8 | O98: 5.8 | P98: 5.8 | Q98: 5.8 | R98: 5.8 | S98: 5.8 | T98: 5.8 | U98: 7.9 | V98: 7.9 | W98: 7.9 | X98: 7.9 | Y98: 7.9 | Z98: 7.9 | AA98: 7.9 | AB98: 8.1 | AC98: 11.9 | AD98: 20.3 | AE98: 10.1 | AF98: 10.1 | AG98: 10.1 | AH98: 10.8 | AI98: 10.8
A99: 95 | B99: =ROW(A99) -> 99 | D99: 6.2 | E99: 6.2 | F99: 13.1 | G99: 13.1 | H99: 13.1 | I99: 13.1 | J99: 13.1 | K99: 13.1 | L99: 5.8 | M99: 5.8 | N99: 5.8 | O99: 5.8 | P99: 5.8 | Q99: 5.8 | R99: 5.8 | S99: 5.8 | T99: 5.8 | U99: 7.9 | V99: 7.9 | W99: 7.9 | X99: 7.9 | Y99: 7.9 | Z99: 7.9 | AA99: 7.9 | AB99: 8.1 | AC99: 11.9 | AD99: 20.3 | AE99: 10.1 | AF99: 10.1 | AG99: 10.1 | AH99: 10.8 | AI99: 10.8
A100: 96 | B100: =ROW(A100) -> 100 | C100: 96 et plus | D100: 6.1 | E100: 6.1 | F100: 12.9 | G100: 12.9 | H100: 12.9 | I100: 12.9 | J100: 12.9 | K100: 12.9 | L100: 4.8 | M100: 4.8 | N100: 4.8 | O100: 4.8 | P100: 4.8 | Q100: 4.8 | R100: 4.8 | S100: 4.8 | T100: 4.8 | U100: 6.1 | V100: 6.1 | W100: 6.1 | X100: 6.1 | Y100: 6.1 | Z100: 6.1 | AA100: 6.1 | AB100: 7.6 | AC100: 11.8 | AD100: 20.2 | AE100: 10.1 | AF100: 10.1 | AG100: 10.1 | AH100: 10.1 | AI100: 10.1
...

Sheet Sources_menus_deroulants
B1: Liste des essences | C1: 1=sur écorce | D1: Mme/M. | E1: Type vente | F1: type d'enchères | H1: Essences à cuber sur écorce | K1: Cubage | L1: Oui/Non
H2: Aulne noir | I2: Orme | K2: sur écorce | L2: oui
D3: Monsieur | E3: Individuelle | F3: m3 | H3: Bouleau | I3: Peuplier tremble | K3: sous écorce | L3: non
A4: Feuillu | B4: Alisier torminal | C4: 2 | D4: Madame | E4: Lots | F4: pour la pièce | H4: Charme | I4: Platane | K4: aucune
B5: Aulne noir | C5: 1 | H5: Châtaignier | I5: Poirier sauvage
B6: Bouleau | C6: 1 | H6: Chêne pédonculé | I6: Pommier sauvage
B7: Cerisier (verger) | C7: 2 | H7: Chêne rouge | I7: Robinier
B8: Charme | C8: 1 | H8: Chêne rouvre | I8: Saule
B9: Châtaignier | C9: 1 | H9: Chêne autre (à spécifier) | I9: Tilleul
B10: Chêne pédonculé | C10: 1 | H10: Erable champêtre | I10: Epicéa
B11: Chêne rouge | C11: 1 | H11: Erable plane | I11: Arole
B12: Chêne rouvre | C12: 1 | H12: Erable sycomore | I12: Douglas
B13: Chêne autre (à spécifier) | C13: 1 | H13: Frêne | I13: Mélèze
B14: Cognassier (verger) | C14: 2 | H14: Hêtre | I14: Pin noir
B15: Cormier | C15: 2 | H15: Marronnier | I15: Pin sylvestre
B16: Epine blanche (Aubépine) | C16: 2 | H16: Merisier | I16: Pin Weymouth
B17: Epine noire (Prunelier) | C17: 2 | H17: Noyer | I17: Sapin
B18: Erable champêtre | C18: 1
B19: Erable plane | C19: 1
B20: Erable sycomore | C20: 1
B21: Frêne | C21: 1
B22: Hêtre | C22: 1
B23: Marronnier | C23: 1
B24: Merisier | C24: 1 | G24: Ne pas modifier la disposition des éléments dans cet onglet !!
B25: Noyer | C25: 1 | G25: Il est possible de changer le texte, mai pas de déplacer les cases.
B26: Orme | C26: 1
B27: Peuplier tremble | C27: 1
B28: Platane | C28: 1
B29: Poirier (verger) | C29: 2
B30: Poirier sauvage | C30: 1
B31: Pommier (verger) | C31: 2
B32: Pommier sauvage | C32: 1
B33: Prunier (verger) | C33: 2
B34: Robinier | C34: 1
B35: Saule | C35: 1
B36: Tilleul | C36: 1
B37: Autre feuillu (à spécifier) | C37: 2
A38: Résineux | B38: Epicéa | C38: 1
B39: Arole | C39: 1
B40: Douglas | C40: 1
B41: If | C41: 2
B42: Mélèze | C42: 1
B43: Pin noir | C43: 1
B44: Pin sylvestre | C44: 1
B45: Pin Weymouth | C45: 1
B46: Sapin | C46: 1
B47: Autre résineux (à spécifier) | C47: 2
